BEGIN:VCALENDAR
VERSION:2.0
PRODID:-//wp-events-plugin.com//7.2.3.1//EN
TZID:America/New_York
X-WR-TIMEZONE:America/New_York
BEGIN:VEVENT
UID:6227@biblio.brossard.ca
DTSTART;TZID=America/New_York:20260504T100000
DTEND;TZID=America/New_York:20260504T110000
DTSTAMP:20260409T141834Z
URL:https://biblio.brossard.ca/activites/visites-scolaires-speciales-iaceta-4-mai/
SUMMARY:Visite scolaire spéciale IACéta (4 mai)
DESCRIPTION:IACéta est une expérience immersive et interactive pour les élèves de 6e année proposée à la Bibliothèque de Brossard en collaboration avec Édu GoPro qui invite les élèves à travailler en équipe pour réparer une intelligence artificielle défaillante qui décode le langage des cétacés.\n\nLa mission d’une durée d’une heure se déroule en trois étapes. Équipés de matériel technologique (casques VR\, tablettes\, casques audio)\, les élèves forment des groupes de 3 et changent de rôle à chaque étape.\n\nPour découvrir les rôles\, les objectifs et les compétences éducatives\, consultez le document joint en pdf.\n\n\nPour plus de renseignements : \n\nhttps://biblio.brossard.ca/activites/visites-scolaires-speciales-iaceta-4-mai/
ATTACH;FMTTYPE=image/jpeg:https://biblio.brossard.ca/wp-content/uploads/2026/04/iaceta.jpg
CATEGORIES:Visites scolaires spéciales
LOCATION:Bibliothèque de Brossard Georgette-Lepage -  Espace SODA
GEO:45.455118;-73.468344
X-APPLE-STRUCTURED-LOCATION;VALUE=URI;X-ADDRESS=7855\, av San Francisco\, B
 rossard\, Qc\, J4X 2A4\, Canada;X-APPLE-RADIUS=100;X-TITLE=Espace SODA:geo
 :45.455118,-73.468344
END:VEVENT
BEGIN:VEVENT
UID:6228@biblio.brossard.ca
DTSTART;TZID=America/New_York:20260504T130000
DTEND;TZID=America/New_York:20260504T140000
DTSTAMP:20260409T141843Z
URL:https://biblio.brossard.ca/activites/visites-scolaires-speciales-iaceta-4-mai-2/
SUMMARY:Visite scolaire spéciale IACéta (4 mai)
DESCRIPTION:IACéta est une expérience immersive et interactive pour les élèves de 6e année proposée à la Bibliothèque de Brossard en collaboration avec Édu GoPro qui invite les élèves à travailler en équipe pour réparer une intelligence artificielle défaillante qui décode le langage des cétacés.\n\nLa mission d’une durée d’une heure se déroule en trois étapes. Équipés de matériel technologique (casques VR\, tablettes\, casques audio)\, les élèves forment des groupes de 3 et changent de rôle à chaque étape.\n\nPour découvrir les rôles\, les objectifs et les compétences éducatives\, consultez le document joint en pdf.\n\n\nPour plus de renseignements : \n\nhttps://biblio.brossard.ca/activites/visites-scolaires-speciales-iaceta-4-mai-2/
ATTACH;FMTTYPE=image/jpeg:https://biblio.brossard.ca/wp-content/uploads/2026/04/iaceta.jpg
CATEGORIES:Visites scolaires spéciales
LOCATION:Bibliothèque de Brossard Georgette-Lepage -  Espace SODA
GEO:45.455118;-73.468344
X-APPLE-STRUCTURED-LOCATION;VALUE=URI;X-ADDRESS=7855\, av San Francisco\, B
 rossard\, Qc\, J4X 2A4\, Canada;X-APPLE-RADIUS=100;X-TITLE=Espace SODA:geo
 :45.455118,-73.468344
END:VEVENT
BEGIN:VEVENT
UID:6229@biblio.brossard.ca
DTSTART;TZID=America/New_York:20260505T084500
DTEND;TZID=America/New_York:20260505T094500
DTSTAMP:20260409T141853Z
URL:https://biblio.brossard.ca/activites/visites-scolaires-speciales-iaceta-5-mai/
SUMMARY:Visite scolaire spéciale IACéta (5 mai)
DESCRIPTION:IACéta est une expérience immersive et interactive pour les élèves de 6e année proposée à la Bibliothèque de Brossard en collaboration avec Édu GoPro qui invite les élèves à travailler en équipe pour réparer une intelligence artificielle défaillante qui décode le langage des cétacés.\n\nLa mission d’une durée d’une heure se déroule en trois étapes. Équipés de matériel technologique (casques VR\, tablettes\, casques audio)\, les élèves forment des groupes de 3 et changent de rôle à chaque étape.\n\nPour découvrir les rôles\, les objectifs et les compétences éducatives\, consultez le document joint en pdf.\n\n\nPour plus de renseignements : \n\nhttps://biblio.brossard.ca/activites/visites-scolaires-speciales-iaceta-5-mai/
ATTACH;FMTTYPE=image/jpeg:https://biblio.brossard.ca/wp-content/uploads/2026/04/iaceta.jpg
CATEGORIES:Visites scolaires spéciales
LOCATION:Bibliothèque de Brossard Georgette-Lepage -  Espace SODA
GEO:45.455118;-73.468344
X-APPLE-STRUCTURED-LOCATION;VALUE=URI;X-ADDRESS=7855\, av San Francisco\, B
 rossard\, Qc\, J4X 2A4\, Canada;X-APPLE-RADIUS=100;X-TITLE=Espace SODA:geo
 :45.455118,-73.468344
END:VEVENT
BEGIN:VEVENT
UID:6230@biblio.brossard.ca
DTSTART;TZID=America/New_York:20260505T100000
DTEND;TZID=America/New_York:20260505T110000
DTSTAMP:20260409T141902Z
URL:https://biblio.brossard.ca/activites/visites-scolaires-speciales-iaceta-5-mai-2/
SUMMARY:Visite scolaire spéciale IACéta (5 mai)
DESCRIPTION:IACéta est une expérience immersive et interactive pour les élèves de 6e année proposée à la Bibliothèque de Brossard en collaboration avec Édu GoPro qui invite les élèves à travailler en équipe pour réparer une intelligence artificielle défaillante qui décode le langage des cétacés.\n\nLa mission d’une durée d’une heure se déroule en trois étapes. Équipés de matériel technologique (casques VR\, tablettes\, casques audio)\, les élèves forment des groupes de 3 et changent de rôle à chaque étape.\n\nPour découvrir les rôles\, les objectifs et les compétences éducatives\, consultez le document joint en pdf.\n\n\nPour plus de renseignements : \n\nhttps://biblio.brossard.ca/activites/visites-scolaires-speciales-iaceta-5-mai-2/
ATTACH;FMTTYPE=image/jpeg:https://biblio.brossard.ca/wp-content/uploads/2026/04/iaceta.jpg
CATEGORIES:Visites scolaires spéciales
LOCATION:Bibliothèque de Brossard Georgette-Lepage -  Espace SODA
GEO:45.455118;-73.468344
X-APPLE-STRUCTURED-LOCATION;VALUE=URI;X-ADDRESS=7855\, av San Francisco\, B
 rossard\, Qc\, J4X 2A4\, Canada;X-APPLE-RADIUS=100;X-TITLE=Espace SODA:geo
 :45.455118,-73.468344
END:VEVENT
BEGIN:VEVENT
UID:6231@biblio.brossard.ca
DTSTART;TZID=America/New_York:20260505T130000
DTEND;TZID=America/New_York:20260505T140000
DTSTAMP:20260409T141910Z
URL:https://biblio.brossard.ca/activites/visites-scolaires-speciales-iaceta-5-mai-3/
SUMMARY:Visite scolaire spéciale IACéta (5 mai)
DESCRIPTION:IACéta est une expérience immersive et interactive pour les élèves de 6e année proposée à la Bibliothèque de Brossard en collaboration avec Édu GoPro qui invite les élèves à travailler en équipe pour réparer une intelligence artificielle défaillante qui décode le langage des cétacés.\n\nLa mission d’une durée d’une heure se déroule en trois étapes. Équipés de matériel technologique (casques VR\, tablettes\, casques audio)\, les élèves forment des groupes de 3 et changent de rôle à chaque étape.\n\nPour découvrir les rôles\, les objectifs et les compétences éducatives\, consultez le document joint en pdf.\n\n\nPour plus de renseignements : \n\nhttps://biblio.brossard.ca/activites/visites-scolaires-speciales-iaceta-5-mai-3/
ATTACH;FMTTYPE=image/jpeg:https://biblio.brossard.ca/wp-content/uploads/2026/04/iaceta.jpg
CATEGORIES:Visites scolaires spéciales
LOCATION:Bibliothèque de Brossard Georgette-Lepage -  Espace SODA
GEO:45.455118;-73.468344
X-APPLE-STRUCTURED-LOCATION;VALUE=URI;X-ADDRESS=7855\, av San Francisco\, B
 rossard\, Qc\, J4X 2A4\, Canada;X-APPLE-RADIUS=100;X-TITLE=Espace SODA:geo
 :45.455118,-73.468344
END:VEVENT
BEGIN:VEVENT
UID:6232@biblio.brossard.ca
DTSTART;TZID=America/New_York:20260506T084500
DTEND;TZID=America/New_York:20260506T094500
DTSTAMP:20260409T141938Z
URL:https://biblio.brossard.ca/activites/visites-scolaires-speciales-iaceta-6-mai/
SUMMARY:Visite scolaire spéciale IACéta (6 mai)
DESCRIPTION:IACéta est une expérience immersive et interactive pour les élèves de 6e année proposée à la Bibliothèque de Brossard en collaboration avec Édu GoPro qui invite les élèves à travailler en équipe pour réparer une intelligence artificielle défaillante qui décode le langage des cétacés.\n\nLa mission d’une durée d’une heure se déroule en trois étapes. Équipés de matériel technologique (casques VR\, tablettes\, casques audio)\, les élèves forment des groupes de 3 et changent de rôle à chaque étape.\n\nPour découvrir les rôles\, les objectifs et les compétences éducatives\, consultez le document joint en pdf.\n\n\nPour plus de renseignements : \n\nhttps://biblio.brossard.ca/activites/visites-scolaires-speciales-iaceta-6-mai/
ATTACH;FMTTYPE=image/jpeg:https://biblio.brossard.ca/wp-content/uploads/2026/04/iaceta.jpg
CATEGORIES:Visites scolaires spéciales
LOCATION:Bibliothèque de Brossard Georgette-Lepage -  Espace SODA
GEO:45.455118;-73.468344
X-APPLE-STRUCTURED-LOCATION;VALUE=URI;X-ADDRESS=7855\, av San Francisco\, B
 rossard\, Qc\, J4X 2A4\, Canada;X-APPLE-RADIUS=100;X-TITLE=Espace SODA:geo
 :45.455118,-73.468344
END:VEVENT
BEGIN:VEVENT
UID:6233@biblio.brossard.ca
DTSTART;TZID=America/New_York:20260506T100000
DTEND;TZID=America/New_York:20260506T110000
DTSTAMP:20260409T141947Z
URL:https://biblio.brossard.ca/activites/visites-scolaires-speciales-iaceta-6-mai-2/
SUMMARY:Visite scolaire spéciale IACéta (6 mai)
DESCRIPTION:IACéta est une expérience immersive et interactive pour les élèves de 6e année proposée à la Bibliothèque de Brossard en collaboration avec Édu GoPro qui invite les élèves à travailler en équipe pour réparer une intelligence artificielle défaillante qui décode le langage des cétacés.\n\nLa mission d’une durée d’une heure se déroule en trois étapes. Équipés de matériel technologique (casques VR\, tablettes\, casques audio)\, les élèves forment des groupes de 3 et changent de rôle à chaque étape.\n\nPour découvrir les rôles\, les objectifs et les compétences éducatives\, consultez le document joint en pdf.\n\n\nPour plus de renseignements : \n\nhttps://biblio.brossard.ca/activites/visites-scolaires-speciales-iaceta-6-mai-2/
ATTACH;FMTTYPE=image/jpeg:https://biblio.brossard.ca/wp-content/uploads/2026/04/iaceta.jpg
CATEGORIES:Visites scolaires spéciales
LOCATION:Bibliothèque de Brossard Georgette-Lepage -  Espace SODA
GEO:45.455118;-73.468344
X-APPLE-STRUCTURED-LOCATION;VALUE=URI;X-ADDRESS=7855\, av San Francisco\, B
 rossard\, Qc\, J4X 2A4\, Canada;X-APPLE-RADIUS=100;X-TITLE=Espace SODA:geo
 :45.455118,-73.468344
END:VEVENT
BEGIN:VEVENT
UID:6234@biblio.brossard.ca
DTSTART;TZID=America/New_York:20260506T130000
DTEND;TZID=America/New_York:20260506T140000
DTSTAMP:20260409T141956Z
URL:https://biblio.brossard.ca/activites/visites-scolaires-speciales-iaceta-6-mai-3/
SUMMARY:Visite scolaire spéciale IACéta (6 mai)
DESCRIPTION:IACéta est une expérience immersive et interactive pour les élèves de 6e année proposée à la Bibliothèque de Brossard en collaboration avec Édu GoPro qui invite les élèves à travailler en équipe pour réparer une intelligence artificielle défaillante qui décode le langage des cétacés.\n\nLa mission d’une durée d’une heure se déroule en trois étapes. Équipés de matériel technologique (casques VR\, tablettes\, casques audio)\, les élèves forment des groupes de 3 et changent de rôle à chaque étape.\n\nPour découvrir les rôles\, les objectifs et les compétences éducatives\, consultez le document joint en pdf.\n\n\nPour plus de renseignements : \n\nhttps://biblio.brossard.ca/activites/visites-scolaires-speciales-iaceta-6-mai-3/
ATTACH;FMTTYPE=image/jpeg:https://biblio.brossard.ca/wp-content/uploads/2026/04/iaceta.jpg
CATEGORIES:Visites scolaires spéciales
LOCATION:Bibliothèque de Brossard Georgette-Lepage -  Espace SODA
GEO:45.455118;-73.468344
X-APPLE-STRUCTURED-LOCATION;VALUE=URI;X-ADDRESS=7855\, av San Francisco\, B
 rossard\, Qc\, J4X 2A4\, Canada;X-APPLE-RADIUS=100;X-TITLE=Espace SODA:geo
 :45.455118,-73.468344
END:VEVENT
BEGIN:VEVENT
UID:6235@biblio.brossard.ca
DTSTART;TZID=America/New_York:20260507T084500
DTEND;TZID=America/New_York:20260507T094500
DTSTAMP:20260409T142005Z
URL:https://biblio.brossard.ca/activites/visites-scolaires-speciales-iaceta-7-mai/
SUMMARY:Visite scolaire spéciale IACéta (7 mai)
DESCRIPTION:IACéta est une expérience immersive et interactive pour les élèves de 6e année proposée à la Bibliothèque de Brossard en collaboration avec Édu GoPro qui invite les élèves à travailler en équipe pour réparer une intelligence artificielle défaillante qui décode le langage des cétacés.\n\nLa mission d’une durée d’une heure se déroule en trois étapes. Équipés de matériel technologique (casques VR\, tablettes\, casques audio)\, les élèves forment des groupes de 3 et changent de rôle à chaque étape.\n\nPour découvrir les rôles\, les objectifs et les compétences éducatives\, consultez le document joint en pdf.\n\n\nPour plus de renseignements : \n\nhttps://biblio.brossard.ca/activites/visites-scolaires-speciales-iaceta-7-mai/
ATTACH;FMTTYPE=image/jpeg:https://biblio.brossard.ca/wp-content/uploads/2026/04/iaceta.jpg
CATEGORIES:Visites scolaires spéciales
LOCATION:Bibliothèque de Brossard Georgette-Lepage -  Espace SODA
GEO:45.455118;-73.468344
X-APPLE-STRUCTURED-LOCATION;VALUE=URI;X-ADDRESS=7855\, av San Francisco\, B
 rossard\, Qc\, J4X 2A4\, Canada;X-APPLE-RADIUS=100;X-TITLE=Espace SODA:geo
 :45.455118,-73.468344
END:VEVENT
BEGIN:VEVENT
UID:6236@biblio.brossard.ca
DTSTART;TZID=America/New_York:20260507T100000
DTEND;TZID=America/New_York:20260507T110000
DTSTAMP:20260409T142014Z
URL:https://biblio.brossard.ca/activites/visites-scolaires-speciales-iaceta-7-mai-2/
SUMMARY:Visite scolaire spéciale IACéta (7 mai)
DESCRIPTION:IACéta est une expérience immersive et interactive pour les élèves de 6e année proposée à la Bibliothèque de Brossard en collaboration avec Édu GoPro qui invite les élèves à travailler en équipe pour réparer une intelligence artificielle défaillante qui décode le langage des cétacés.\n\nLa mission d’une durée d’une heure se déroule en trois étapes. Équipés de matériel technologique (casques VR\, tablettes\, casques audio)\, les élèves forment des groupes de 3 et changent de rôle à chaque étape.\n\nPour découvrir les rôles\, les objectifs et les compétences éducatives\, consultez le document joint en pdf.\n\n\nPour plus de renseignements : \n\nhttps://biblio.brossard.ca/activites/visites-scolaires-speciales-iaceta-7-mai-2/
ATTACH;FMTTYPE=image/jpeg:https://biblio.brossard.ca/wp-content/uploads/2026/04/iaceta.jpg
CATEGORIES:Visites scolaires spéciales
LOCATION:Bibliothèque de Brossard Georgette-Lepage -  Espace SODA
GEO:45.455118;-73.468344
X-APPLE-STRUCTURED-LOCATION;VALUE=URI;X-ADDRESS=7855\, av San Francisco\, B
 rossard\, Qc\, J4X 2A4\, Canada;X-APPLE-RADIUS=100;X-TITLE=Espace SODA:geo
 :45.455118,-73.468344
END:VEVENT
BEGIN:VEVENT
UID:6237@biblio.brossard.ca
DTSTART;TZID=America/New_York:20260507T130000
DTEND;TZID=America/New_York:20260507T140000
DTSTAMP:20260409T142035Z
URL:https://biblio.brossard.ca/activites/visites-scolaires-speciales-iaceta-7-mai-3/
SUMMARY:Visite scolaire spéciale IACéta (7 mai)
DESCRIPTION:IACéta est une expérience immersive et interactive pour les élèves de 6e année proposée à la Bibliothèque de Brossard en collaboration avec Édu GoPro qui invite les élèves à travailler en équipe pour réparer une intelligence artificielle défaillante qui décode le langage des cétacés.\n\nLa mission d’une durée d’une heure se déroule en trois étapes. Équipés de matériel technologique (casques VR\, tablettes\, casques audio)\, les élèves forment des groupes de 3 et changent de rôle à chaque étape.\n\nPour découvrir les rôles\, les objectifs et les compétences éducatives\, consultez le document joint en pdf.\n\n\nPour plus de renseignements : \n\nhttps://biblio.brossard.ca/activites/visites-scolaires-speciales-iaceta-7-mai-3/
ATTACH;FMTTYPE=image/jpeg:https://biblio.brossard.ca/wp-content/uploads/2026/04/iaceta.jpg
CATEGORIES:Visites scolaires spéciales
LOCATION:Bibliothèque de Brossard Georgette-Lepage -  Espace SODA
GEO:45.455118;-73.468344
X-APPLE-STRUCTURED-LOCATION;VALUE=URI;X-ADDRESS=7855\, av San Francisco\, B
 rossard\, Qc\, J4X 2A4\, Canada;X-APPLE-RADIUS=100;X-TITLE=Espace SODA:geo
 :45.455118,-73.468344
END:VEVENT
BEGIN:VTIMEZONE
TZID:America/New_York
X-LIC-LOCATION:America/New_York
BEGIN:DAYLIGHT
DTSTART:20260308T030000
TZOFFSETFROM:-0500
TZOFFSETTO:-0400
TZNAME:EDT
END:DAYLIGHT
END:VTIMEZONE
END:VCALENDAR