BEGIN:VCALENDAR
VERSION:2.0
PRODID:-//wp-events-plugin.com//7.2.3.1//EN
TZID:America/New_York
X-WR-TIMEZONE:America/New_York
BEGIN:VEVENT
UID:5833@biblio.brossard.ca
DTSTART;TZID=America/New_York;VALUE=DATE:20260401
DTEND;TZID=America/New_York;VALUE=DATE:20260501
DTSTAMP:20250909T194739Z
URL:https://biblio.brossard.ca/activites/simon-boulerice-avril-3/
SUMMARY:Simon Boulerice (avril)
DESCRIPTION:Chacune des trousses comprend une dizaine d’œuvres de la créatrice/du créateur vedette. Vous retrouverez également une biographie\, une bibliographie ainsi que des pistes d’exploitation pédagogique. Bonne découverte!\n\nPour plus de renseignements : \n\nhttps://biblio.brossard.ca/activites/simon-boulerice-avril-3/
CATEGORIES:Simon Boulerice,Trousses,Trousses créateurs d’ici
LOCATION: Bibliothèque de Brossard Georgette-Lepage
GEO:45.455118;-73.468344
X-APPLE-STRUCTURED-LOCATION;VALUE=URI;X-ADDRESS=7855\, av San Francisco\, B
 rossard\, Qc\, J4X 2A4\, Canada;X-APPLE-RADIUS=100;X-TITLE=Bibliothèque d
 e Brossard Georgette-Lepage:geo:45.455118,-73.468344
END:VEVENT
BEGIN:VEVENT
UID:5834@biblio.brossard.ca
DTSTART;TZID=America/New_York;VALUE=DATE:20260501
DTEND;TZID=America/New_York;VALUE=DATE:20260601
DTSTAMP:20250909T194755Z
URL:https://biblio.brossard.ca/activites/simon-boulerice-mai-3/
SUMMARY:Simon Boulerice (mai)
DESCRIPTION:Chacune des trousses comprend une dizaine d’œuvres de la créatrice/du créateur vedette. Vous retrouverez également une biographie\, une bibliographie ainsi que des pistes d’exploitation pédagogique. Bonne découverte!\n\nPour plus de renseignements : \n\nhttps://biblio.brossard.ca/activites/simon-boulerice-mai-3/
CATEGORIES:Simon Boulerice,Trousses,Trousses créateurs d’ici
LOCATION: Bibliothèque de Brossard Georgette-Lepage
GEO:45.455118;-73.468344
X-APPLE-STRUCTURED-LOCATION;VALUE=URI;X-ADDRESS=7855\, av San Francisco\, B
 rossard\, Qc\, J4X 2A4\, Canada;X-APPLE-RADIUS=100;X-TITLE=Bibliothèque d
 e Brossard Georgette-Lepage:geo:45.455118,-73.468344
END:VEVENT
BEGIN:VTIMEZONE
TZID:America/New_York
X-LIC-LOCATION:America/New_York
BEGIN:DAYLIGHT
DTSTART:20260308T030000
TZOFFSETFROM:-0500
TZOFFSETTO:-0400
TZNAME:EDT
END:DAYLIGHT
END:VTIMEZONE
END:VCALENDAR