BEGIN:VCALENDAR
VERSION:2.0
PRODID:-//wp-events-plugin.com//7.2.3.1//EN
TZID:America/New_York
X-WR-TIMEZONE:America/New_York
BEGIN:VEVENT
UID:6197@biblio.brossard.ca
DTSTART;TZID=America/New_York:20260426T100000
DTEND;TZID=America/New_York:20260426T121500
DTSTAMP:20260306T211208Z
URL:https://biblio.brossard.ca/activites/biblio-jeux-26-avril-2026/
SUMMARY:Biblio-Jeux (26 avril 2026)
DESCRIPTION:Lors de cette séance de stimulation du langage dans le cadre du programme Biblio-Jeux\, les familles sont invitées à explorer la collection de jeux accompagnées par une orthophoniste pour les guider et répondre à leurs questions. \n\n*Inscription dans un seul groupe \nGroupe 1 : 10h00 à 11h00\nGroupe 2 : 11h15 à 12h15\n\n\nPour plus de renseignements : \n\nhttps://biblio.brossard.ca/activites/biblio-jeux-26-avril-2026/
ATTACH;FMTTYPE=image/jpeg:https://biblio.brossard.ca/wp-content/uploads/2024/09/biblio-jeux_logo.png
CATEGORIES:Activités à venir,Activités enfants,Biblio-Jeux
LOCATION:Bibliothèque de Brossard Georgette-Lepage -  Salle d'animation
GEO:45.455104;-73.468254
X-APPLE-STRUCTURED-LOCATION;VALUE=URI;X-ADDRESS=7855\, av San Francisco\, B
 rossard\, Qc\, J4X 2A4\, Canada;X-APPLE-RADIUS=100;X-TITLE=Salle d'animati
 on:geo:45.455104,-73.468254
END:VEVENT
BEGIN:VEVENT
UID:6198@biblio.brossard.ca
DTSTART;TZID=America/New_York:20260510T100000
DTEND;TZID=America/New_York:20260510T121500
DTSTAMP:20260306T211205Z
URL:https://biblio.brossard.ca/activites/biblio-jeux-10-mai-2026/
SUMMARY:Biblio-Jeux (10 mai 2026)
DESCRIPTION:Lors de cette séance de stimulation du langage dans le cadre du programme Biblio-Jeux\, les familles sont invitées à explorer la collection de jeux accompagnées par une orthophoniste pour les guider et répondre à leurs questions. \n\n*Inscription dans un seul groupe\nGroupe 1 : 10h00 à 11h00\nGroupe 2 : 11h15 à 12h15\n\n\nPour plus de renseignements : \n\nhttps://biblio.brossard.ca/activites/biblio-jeux-10-mai-2026/
ATTACH;FMTTYPE=image/jpeg:https://biblio.brossard.ca/wp-content/uploads/2024/09/biblio-jeux_logo.png
CATEGORIES:Activités à venir,Activités enfants,Biblio-Jeux
LOCATION:Bibliothèque de Brossard Georgette-Lepage -  Salle d'animation
GEO:45.455104;-73.468254
X-APPLE-STRUCTURED-LOCATION;VALUE=URI;X-ADDRESS=7855\, av San Francisco\, B
 rossard\, Qc\, J4X 2A4\, Canada;X-APPLE-RADIUS=100;X-TITLE=Salle d'animati
 on:geo:45.455104,-73.468254
END:VEVENT
BEGIN:VEVENT
UID:6199@biblio.brossard.ca
DTSTART;TZID=America/New_York:20260524T100000
DTEND;TZID=America/New_York:20260524T121500
DTSTAMP:20260306T211200Z
URL:https://biblio.brossard.ca/activites/biblio-jeux-24-mai-2026/
SUMMARY:Biblio-Jeux (24 mai 2026)
DESCRIPTION:Lors de cette séance de stimulation du langage dans le cadre du programme Biblio-Jeux\, les familles sont invitées à explorer la collection de jeux accompagnées par une orthophoniste pour les guider et répondre à leurs questions. \n\n*Inscription dans un seul groupe\nGroupe 1 : 10h00 à 11h00\nGroupe 2 : 11h15 à 12h15\n\n\nPour plus de renseignements : \n\nhttps://biblio.brossard.ca/activites/biblio-jeux-24-mai-2026/
ATTACH;FMTTYPE=image/jpeg:https://biblio.brossard.ca/wp-content/uploads/2024/09/biblio-jeux_logo.png
CATEGORIES:Activités à venir,Activités enfants,Biblio-Jeux
LOCATION:Bibliothèque de Brossard Georgette-Lepage -  Salle d'animation
GEO:45.455104;-73.468254
X-APPLE-STRUCTURED-LOCATION;VALUE=URI;X-ADDRESS=7855\, av San Francisco\, B
 rossard\, Qc\, J4X 2A4\, Canada;X-APPLE-RADIUS=100;X-TITLE=Salle d'animati
 on:geo:45.455104,-73.468254
END:VEVENT
BEGIN:VEVENT
UID:6200@biblio.brossard.ca
DTSTART;TZID=America/New_York:20260607T100000
DTEND;TZID=America/New_York:20260607T121500
DTSTAMP:20260306T211155Z
URL:https://biblio.brossard.ca/activites/biblio-jeux-7-juin-2026/
SUMMARY:Biblio-Jeux (7 juin 2026)
DESCRIPTION:Lors de cette séance de stimulation du langage dans le cadre du programme Biblio-Jeux\, les familles sont invitées à explorer la collection de jeux accompagnées par une orthophoniste pour les guider et répondre à leurs questions. \n\n*Inscription dans un seul groupe\nGroupe 1 : 10h00 à 11h00\nGroupe 2 : 11h15 à 12h15\n\n\nPour plus de renseignements : \n\nhttps://biblio.brossard.ca/activites/biblio-jeux-7-juin-2026/
ATTACH;FMTTYPE=image/jpeg:https://biblio.brossard.ca/wp-content/uploads/2024/09/biblio-jeux_logo.png
CATEGORIES:Activités à venir,Activités enfants,Biblio-Jeux
LOCATION:Bibliothèque de Brossard Georgette-Lepage -  Salle d'animation
GEO:45.455104;-73.468254
X-APPLE-STRUCTURED-LOCATION;VALUE=URI;X-ADDRESS=7855\, av San Francisco\, B
 rossard\, Qc\, J4X 2A4\, Canada;X-APPLE-RADIUS=100;X-TITLE=Salle d'animati
 on:geo:45.455104,-73.468254
END:VEVENT
BEGIN:VTIMEZONE
TZID:America/New_York
X-LIC-LOCATION:America/New_York
BEGIN:DAYLIGHT
DTSTART:20260308T030000
TZOFFSETFROM:-0500
TZOFFSETTO:-0400
TZNAME:EDT
END:DAYLIGHT
END:VTIMEZONE
END:VCALENDAR