BEGIN:VCALENDAR
VERSION:2.0
PRODID:-//wp-events-plugin.com//7.2.3.1//EN
TZID:America/New_York
X-WR-TIMEZONE:America/New_York
BEGIN:VEVENT
UID:6173@biblio.brossard.ca
DTSTART;TZID=America/New_York:20260502T133000
DTEND;TZID=America/New_York:20260502T153000
DTSTAMP:20260304T181033Z
URL:https://biblio.brossard.ca/activites/planete-livres-pour-le-plaisir-de-partager-en-francais-2-mai-2026/
SUMMARY:Planète livres\, pour le plaisir de partager en français (2 mai 2026)
DESCRIPTION:Les participants à cet atelier de lecture et d’écriture se rencontrent pour échanger\, écrire et lire des textes courts d’auteurs issus du Québec et d’ailleurs.\n\nPour plus de renseignements : \n\nhttps://biblio.brossard.ca/activites/planete-livres-pour-le-plaisir-de-partager-en-francais-2-mai-2026/
ATTACH;FMTTYPE=image/jpeg:https://biblio.brossard.ca/wp-content/uploads/2024/09/planete_livres.jpg
CATEGORIES:Activités à venir,Activités adultes,Activités interculturelles,Planète livres
LOCATION:Bibliothèque de Brossard Georgette-Lepage -  L’Atelier
GEO:45.455134;-73.468246
X-APPLE-STRUCTURED-LOCATION;VALUE=URI;X-ADDRESS=7855\, av San Francisco\, B
 rossard\, Qc\, J4X 2A4\, Canada;X-APPLE-RADIUS=100;X-TITLE=L’Atelier:geo
 :45.455134,-73.468246
END:VEVENT
BEGIN:VEVENT
UID:6174@biblio.brossard.ca
DTSTART;TZID=America/New_York:20260606T100000
DTEND;TZID=America/New_York:20260606T120000
DTSTAMP:20260304T181033Z
URL:https://biblio.brossard.ca/activites/planete-livres-pour-le-plaisir-de-partager-en-francais-6-juin-2026/
SUMMARY:Planète livres\, pour le plaisir de partager en français (6 juin 2026)
DESCRIPTION:Les participants à cet atelier de lecture et d’écriture se rencontrent pour échanger\, écrire et lire des textes courts d’auteurs issus du Québec et d’ailleurs.\n\nPour plus de renseignements : \n\nhttps://biblio.brossard.ca/activites/planete-livres-pour-le-plaisir-de-partager-en-francais-6-juin-2026/
ATTACH;FMTTYPE=image/jpeg:https://biblio.brossard.ca/wp-content/uploads/2024/09/planete_livres.jpg
CATEGORIES:Activités à venir,Activités adultes,Activités interculturelles,Planète livres
LOCATION:Bibliothèque de Brossard Georgette-Lepage -  Salle d'animation
GEO:45.455104;-73.468254
X-APPLE-STRUCTURED-LOCATION;VALUE=URI;X-ADDRESS=7855\, av San Francisco\, B
 rossard\, Qc\, J4X 2A4\, Canada;X-APPLE-RADIUS=100;X-TITLE=Salle d'animati
 on:geo:45.455104,-73.468254
END:VEVENT
BEGIN:VTIMEZONE
TZID:America/New_York
X-LIC-LOCATION:America/New_York
BEGIN:DAYLIGHT
DTSTART:20260308T030000
TZOFFSETFROM:-0500
TZOFFSETTO:-0400
TZNAME:EDT
END:DAYLIGHT
END:VTIMEZONE
END:VCALENDAR