BEGIN:VCALENDAR
VERSION:2.0
PRODID:-//wp-events-plugin.com//7.2.3.1//EN
TZID:America/New_York
X-WR-TIMEZONE:America/New_York
BEGIN:VEVENT
UID:6188@biblio.brossard.ca
DTSTART;TZID=America/New_York:20260523T140000
DTEND;TZID=America/New_York:20260523T150000
DTSTAMP:20260309T152146Z
URL:https://biblio.brossard.ca/activites/petits-contes-en-famille-23-mai-2026/
SUMMARY:Petits contes en famille (23 mai 2026)
DESCRIPTION:Retrouvez tous les plaisirs de l’heure du conte en français. Histoires\, comptines\, chansons et bricolage plairont à toute la famille ! \n\nEn collaboration avec la Maison de la famille de Brossard.\n\n\nPour plus de renseignements : \n\nhttps://biblio.brossard.ca/activites/petits-contes-en-famille-23-mai-2026/
ATTACH;FMTTYPE=image/jpeg:https://biblio.brossard.ca/wp-content/uploads/2024/09/petit_conte_famille.jpg
CATEGORIES:Activités à venir,Activités enfants,Petits contes en famille
LOCATION:Bibliothèque de Brossard Georgette-Lepage -  Salle d'animation
GEO:45.455104;-73.468254
X-APPLE-STRUCTURED-LOCATION;VALUE=URI;X-ADDRESS=7855\, av San Francisco\, B
 rossard\, Qc\, J4X 2A4\, Canada;X-APPLE-RADIUS=100;X-TITLE=Salle d'animati
 on:geo:45.455104,-73.468254
END:VEVENT
BEGIN:VTIMEZONE
TZID:America/New_York
X-LIC-LOCATION:America/New_York
BEGIN:DAYLIGHT
DTSTART:20260308T030000
TZOFFSETFROM:-0500
TZOFFSETTO:-0400
TZNAME:EDT
END:DAYLIGHT
END:VTIMEZONE
END:VCALENDAR