BEGIN:VCALENDAR
VERSION:2.0
PRODID:-//wp-events-plugin.com//7.2.3.1//EN
TZID:America/New_York
X-WR-TIMEZONE:America/New_York
BEGIN:VEVENT
UID:6163@biblio.brossard.ca
DTSTART;TZID=America/New_York:20260506T183000
DTEND;TZID=America/New_York:20260506T203000
DTSTAMP:20260302T212311Z
URL:https://biblio.brossard.ca/activites/le-passage-du-primaire-au-secondaire-6-mai-2026/
SUMMARY:Le passage du primaire au secondaire (6 mai 2026)
DESCRIPTION:Parents\, vous vous posez mille questions à l’approche du passage de votre enfant vers l’école secondaire? Cette étape clé de la vie scolaire s’accompagne de grands bouleversements – physiques\, sociaux et identitaires – qui peuvent susciter bien des émotions. Notre formation est là pour vous éclairer! Découvrez des pistes de réflexion et des conseils pratiques pour mieux comprendre ce que vivent les jeunes et répondre à vos interrogations. Ensemble\, explorons les défis et les opportunités de cette transition afin d’accompagner votre enfant avec confiance. Avec Isabelle Spinetta\, animatrice communautaire à l’organisme Écritôt de Saint-Hubert.\n\nPour plus de renseignements : \n\nhttps://biblio.brossard.ca/activites/le-passage-du-primaire-au-secondaire-6-mai-2026/
ATTACH;FMTTYPE=image/jpeg:https://biblio.brossard.ca/wp-content/uploads/2026/02/primaire_au_secondaire.jpg
CATEGORIES:Activités à venir,Activités adultes,Ma famille
LOCATION:Bibliothèque de Brossard Georgette-Lepage -  Salle d'animation
GEO:45.455104;-73.468254
X-APPLE-STRUCTURED-LOCATION;VALUE=URI;X-ADDRESS=7855\, av San Francisco\, B
 rossard\, Qc\, J4X 2A4\, Canada;X-APPLE-RADIUS=100;X-TITLE=Salle d'animati
 on:geo:45.455104,-73.468254
END:VEVENT
BEGIN:VEVENT
UID:6164@biblio.brossard.ca
DTSTART;TZID=America/New_York:20260512T181500
DTEND;TZID=America/New_York:20260512T201500
DTSTAMP:20260302T212647Z
URL:https://biblio.brossard.ca/activites/conference-generation-ecran-12-mai-2026/
SUMMARY:Conférence génération écran (12 mai 2026)
DESCRIPTION:Conférence pour les parents d'adolescent.es portant sur l'impact des écrans sur le développement des adolescent.es. La conférence porte sur les volets légal et psychosocial. Les animatrices/eur présentent différents enjeux individuels et familiaux entourant la présence et l'accessibilité des outils informatiques. Ainsi\, nous abordons certains impacts et responsabilités légales\, les avantages et inconvénients de ces outils et certains paramètres et outils permettant de mieux cadrer leur utilisation. \n\nAvec Maude Desjardins\, intervenante à La Maison Jonathan\, Valérie Bélanger\, agente section prévention et intervention sociale de l’équipe Prévention du Service de police de l'agglomération de Longueuil et Martin Hamel\, travailleur social\, CISSSMC\, CLSC St-Hubert\, Équipe Famille Jeunes en difficulté. \n\nPour plus de renseignements : \n\nhttps://biblio.brossard.ca/activites/conference-generation-ecran-12-mai-2026/
ATTACH;FMTTYPE=image/jpeg:https://biblio.brossard.ca/wp-content/uploads/2026/02/ecrans.jpg
CATEGORIES:Activités à venir,Activités adultes,Ma famille
LOCATION:Bibliothèque de Brossard Georgette-Lepage -  Salle d'animation
GEO:45.455104;-73.468254
X-APPLE-STRUCTURED-LOCATION;VALUE=URI;X-ADDRESS=7855\, av San Francisco\, B
 rossard\, Qc\, J4X 2A4\, Canada;X-APPLE-RADIUS=100;X-TITLE=Salle d'animati
 on:geo:45.455104,-73.468254
END:VEVENT
BEGIN:VTIMEZONE
TZID:America/New_York
X-LIC-LOCATION:America/New_York
BEGIN:DAYLIGHT
DTSTART:20260308T030000
TZOFFSETFROM:-0500
TZOFFSETTO:-0400
TZNAME:EDT
END:DAYLIGHT
END:VTIMEZONE
END:VCALENDAR