BEGIN:VCALENDAR
VERSION:2.0
PRODID:-//wp-events-plugin.com//7.2.3.1//EN
TZID:America/New_York
X-WR-TIMEZONE:America/New_York
BEGIN:VEVENT
UID:6183@biblio.brossard.ca
DTSTART;TZID=America/New_York:20260517T103000
DTEND;TZID=America/New_York:20260517T120000
DTSTAMP:20260309T152122Z
URL:https://biblio.brossard.ca/activites/heure-du-conte-en-mandarin-17-mai/
SUMMARY:Heure du conte en mandarin (17 mai 2026)
DESCRIPTION:Retrouvez tous les plaisirs de l’heure du conte en mandarin. Histoires\, comptines et chansons plairont à toute la famille ! \n\nPour plus de renseignements : \n\nhttps://biblio.brossard.ca/activites/heure-du-conte-en-mandarin-17-mai/
ATTACH;FMTTYPE=image/jpeg:https://biblio.brossard.ca/wp-content/uploads/2024/09/heure_conte_mandarin.jpg
CATEGORIES:Activités à venir,Activités enfants,Heures du conte en langues étrangères
LOCATION:Bibliothèque de Brossard Georgette-Lepage -  Salle d'animation
GEO:45.455104;-73.468254
X-APPLE-STRUCTURED-LOCATION;VALUE=URI;X-ADDRESS=7855\, av San Francisco\, B
 rossard\, Qc\, J4X 2A4\, Canada;X-APPLE-RADIUS=100;X-TITLE=Salle d'animati
 on:geo:45.455104,-73.468254
END:VEVENT
BEGIN:VEVENT
UID:6185@biblio.brossard.ca
DTSTART;TZID=America/New_York:20260523T110000
DTEND;TZID=America/New_York:20260523T120000
DTSTAMP:20260309T152122Z
URL:https://biblio.brossard.ca/activites/heure-du-conte-en-anglais-23-mai-2026/
SUMMARY:Heure du conte en anglais (23 mai 2026)
DESCRIPTION:Retrouvez tous les plaisirs de l’heure du conte en anglais. Histoires\, comptines et chansons plairont à toute la famille ! \n\n\nPour plus de renseignements : \n\nhttps://biblio.brossard.ca/activites/heure-du-conte-en-anglais-23-mai-2026/
ATTACH;FMTTYPE=image/jpeg:https://biblio.brossard.ca/wp-content/uploads/2024/08/heure_conte_anglais.jpg
CATEGORIES:Activités à venir,Activités enfants,Heures du conte en langues étrangères
LOCATION:Bibliothèque de Brossard Georgette-Lepage -  Salle d'animation
GEO:45.455104;-73.468254
X-APPLE-STRUCTURED-LOCATION;VALUE=URI;X-ADDRESS=7855\, av San Francisco\, B
 rossard\, Qc\, J4X 2A4\, Canada;X-APPLE-RADIUS=100;X-TITLE=Salle d'animati
 on:geo:45.455104,-73.468254
END:VEVENT
BEGIN:VEVENT
UID:6186@biblio.brossard.ca
DTSTART;TZID=America/New_York:20260531T140000
DTEND;TZID=America/New_York:20260531T150000
DTSTAMP:20260309T152122Z
URL:https://biblio.brossard.ca/activites/heure-du-conte-en-espagnol-31-mai-2026/
SUMMARY:Heure du conte en espagnol (31 mai 2026)
DESCRIPTION:Retrouvez tous les plaisirs de l’heure du conte en espagnol. Histoires\, comptines et chansons plairont à toute la famille !\n\nPour plus de renseignements : \n\nhttps://biblio.brossard.ca/activites/heure-du-conte-en-espagnol-31-mai-2026/
ATTACH;FMTTYPE=image/jpeg:https://biblio.brossard.ca/wp-content/uploads/2024/07/heure_conte_espagnol.jpg
CATEGORIES:Activités à venir,Activités enfants,Heures du conte en langues étrangères
LOCATION:Bibliothèque de Brossard Georgette-Lepage -  Salle d'animation
GEO:45.455104;-73.468254
X-APPLE-STRUCTURED-LOCATION;VALUE=URI;X-ADDRESS=7855\, av San Francisco\, B
 rossard\, Qc\, J4X 2A4\, Canada;X-APPLE-RADIUS=100;X-TITLE=Salle d'animati
 on:geo:45.455104,-73.468254
END:VEVENT
BEGIN:VTIMEZONE
TZID:America/New_York
X-LIC-LOCATION:America/New_York
BEGIN:DAYLIGHT
DTSTART:20260308T030000
TZOFFSETFROM:-0500
TZOFFSETTO:-0400
TZNAME:EDT
END:DAYLIGHT
END:VTIMEZONE
END:VCALENDAR