BEGIN:VCALENDAR
VERSION:2.0
PRODID:-//wp-events-plugin.com//7.2.3.1//EN
TZID:America/New_York
X-WR-TIMEZONE:America/New_York
BEGIN:VEVENT
UID:6153@biblio.brossard.ca
DTSTART;TZID=America/New_York:20260520T190000
DTEND;TZID=America/New_York:20260520T210000
DTSTAMP:20260302T201002Z
URL:https://biblio.brossard.ca/activites/info-ou-desinfo-mode-demploi-20-mai-2026/
SUMMARY:Info ou désinfo? Mode d'emploi (20 mai 2026)
DESCRIPTION:Cet atelier invite les participants à mieux comprendre comment circule la désinformation\, et à développer leur esprit critique face aux contenus qu'ils consultent en ligne. Il vise à redonner confiance aux citoyens dans leur capacité à s'informer de manière éclairée et à naviguer en toute sécurité dans l'univers numérique d'aujourd’hui. Avec Étienne Phénix\, journaliste à Noovo Info Radio/Bell Média depuis 18 ans.\n\nPour plus de renseignements : \n\nhttps://biblio.brossard.ca/activites/info-ou-desinfo-mode-demploi-20-mai-2026/
ATTACH;FMTTYPE=image/jpeg:https://biblio.brossard.ca/wp-content/uploads/2026/02/etienne_phenix.jpg
CATEGORIES:Activités à venir,Activités adultes,Belles soirées
LOCATION:Bibliothèque de Brossard Georgette-Lepage -  Salle d'animation
GEO:45.455104;-73.468254
X-APPLE-STRUCTURED-LOCATION;VALUE=URI;X-ADDRESS=7855\, av San Francisco\, B
 rossard\, Qc\, J4X 2A4\, Canada;X-APPLE-RADIUS=100;X-TITLE=Salle d'animati
 on:geo:45.455104,-73.468254
END:VEVENT
BEGIN:VEVENT
UID:6154@biblio.brossard.ca
DTSTART;TZID=America/New_York:20260527T190000
DTEND;TZID=America/New_York:20260527T203000
DTSTAMP:20260302T201354Z
URL:https://biblio.brossard.ca/activites/labc-de-lia-27-mai-2026/
SUMMARY:L'ABC de l'IA (27 mai 2026)
DESCRIPTION:Pour plusieurs\, l'IA semble être partout et insaisissable à la fois. Elle fait beaucoup parler d'elle dans les médias\, mais pour bien des gens\, les occasions sont rares de s'arrêter pour bien comprendre son histoire\, son fonctionnement et ses impacts à la fois sociétaux et dans leur quotidien. Les agents conversationnels comme ChatGPT ou Claude sont très accessibles et utiles\, mais ils ont aussi leurs limites. Venez apprendre et pratiquer des astuces pour en faire un meilleur usage ! L'atelier est offert par IVADO\, le plus important consortium de recherche\, de formation et de mobilisation des connaissances en intelligence artificielle au Canada.\n\nPour plus de renseignements : \n\nhttps://biblio.brossard.ca/activites/labc-de-lia-27-mai-2026/
ATTACH;FMTTYPE=image/jpeg:https://biblio.brossard.ca/wp-content/uploads/2026/02/intelligence_artificielle.jpg
CATEGORIES:Activités à venir,Activités adultes,Belles soirées
LOCATION:Bibliothèque de Brossard Georgette-Lepage -  Salle d'animation
GEO:45.455104;-73.468254
X-APPLE-STRUCTURED-LOCATION;VALUE=URI;X-ADDRESS=7855\, av San Francisco\, B
 rossard\, Qc\, J4X 2A4\, Canada;X-APPLE-RADIUS=100;X-TITLE=Salle d'animati
 on:geo:45.455104,-73.468254
END:VEVENT
BEGIN:VEVENT
UID:6155@biblio.brossard.ca
DTSTART;TZID=America/New_York:20260603T190000
DTEND;TZID=America/New_York:20260603T203000
DTSTAMP:20260327T135051Z
URL:https://biblio.brossard.ca/activites/nouveaux-medicaments-pour-la-perte-de-poids-comment-salimenter-pour-mieux-tolerer-les-effets-indesirables-et-garder-ses-muscles-3-juin-2026/
SUMMARY:Nouveaux médicaments pour la perte de poids : comment s'alimenter pour mieux tolérer les effets indésirables et garder ses muscles (3 juin 2026)
DESCRIPTION:Les nouveaux médicaments pour la gestion du poids gagnent en popularité et peuvent offrir des bénéfices importants\, notamment pour les personnes vivant avec l’obésité. Comme tout traitement\, ils peuvent toutefois entraîner des effets indésirables\, surtout digestifs. \n\nPrésentée par Kristina Bezverkhnyaya\, nutritionniste-diététiste au Centre d’expertise en diabète du CHUM\, cette conférence abordera les approches nutritionnelles pour mieux tolérer ces traitements\, maintenir des apports nutritifs adéquats et adopter des stratégies concrètes au quotidien. Elle présentera également des pistes pour préserver la masse musculaire durant la perte de poids. \n\nPour plus de renseignements : \n\nhttps://biblio.brossard.ca/activites/nouveaux-medicaments-pour-la-perte-de-poids-comment-salimenter-pour-mieux-tolerer-les-effets-indesirables-et-garder-ses-muscles-3-juin-2026/
ATTACH;FMTTYPE=image/jpeg:https://biblio.brossard.ca/wp-content/uploads/2026/02/kristina_bezverkhnyaya.jpg
CATEGORIES:Activités à venir,Activités adultes,Belles soirées
LOCATION:Bibliothèque de Brossard Georgette-Lepage -  Salle d'animation
GEO:45.455104;-73.468254
X-APPLE-STRUCTURED-LOCATION;VALUE=URI;X-ADDRESS=7855\, av San Francisco\, B
 rossard\, Qc\, J4X 2A4\, Canada;X-APPLE-RADIUS=100;X-TITLE=Salle d'animati
 on:geo:45.455104,-73.468254
END:VEVENT
BEGIN:VTIMEZONE
TZID:America/New_York
X-LIC-LOCATION:America/New_York
BEGIN:DAYLIGHT
DTSTART:20260308T030000
TZOFFSETFROM:-0500
TZOFFSETTO:-0400
TZNAME:EDT
END:DAYLIGHT
END:VTIMEZONE
END:VCALENDAR