BEGIN:VCALENDAR
VERSION:2.0
PRODID:-//wp-events-plugin.com//7.2.3.1//EN
TZID:America/New_York
X-WR-TIMEZONE:America/New_York
BEGIN:VEVENT
UID:6177@biblio.brossard.ca
DTSTART;TZID=America/New_York:20260424T133000
DTEND;TZID=America/New_York:20260424T153000
DTSTAMP:20260304T180839Z
URL:https://biblio.brossard.ca/activites/lia-pour-les-aines-24-avril-2026/
SUMMARY:L'IA pour les aînés (24 avril 2026)
DESCRIPTION:Cette présentation\, par Alain Wagner de Formatio\, explique que l’intelligence artificielle (IA) pour les aînés est un outil qui peut rendre la vie plus facile\, par exemple sur le téléphone ou à la maison. L’IA ne remplace pas les humains\, elle aide simplement à faire certaines tâches. Il ne faut pas avoir peur : on peut apprendre à utiliser l’IA doucement\, à son rythme. \n\nPour plus de renseignements : \n\nhttps://biblio.brossard.ca/activites/lia-pour-les-aines-24-avril-2026/
ATTACH;FMTTYPE=image/jpeg:https://biblio.brossard.ca/wp-content/uploads/2026/02/chat_gpt.jpg
CATEGORIES:Activités à venir,Activités adultes,Après-midis poivre et sel
LOCATION:Bibliothèque de Brossard Georgette-Lepage -  Salle d'animation
GEO:45.455104;-73.468254
X-APPLE-STRUCTURED-LOCATION;VALUE=URI;X-ADDRESS=7855\, av San Francisco\, B
 rossard\, Qc\, J4X 2A4\, Canada;X-APPLE-RADIUS=100;X-TITLE=Salle d'animati
 on:geo:45.455104,-73.468254
END:VEVENT
BEGIN:VEVENT
UID:6179@biblio.brossard.ca
DTSTART;TZID=America/New_York:20260501T133000
DTEND;TZID=America/New_York:20260501T144500
DTSTAMP:20260304T180839Z
URL:https://biblio.brossard.ca/activites/initiatives-de-travail-de-milieu-aupres-des-aines-vulnerables-1er-mai-2026/
SUMMARY:Initiatives de travail de milieu auprès des aînés vulnérables (1er mai 2026)
DESCRIPTION:Lors de cet atelier\, Monika Basak\, travailleuse de milieu au Centre de bénévolat de la Rive-Sud\, expliquera la mission et les objectifs du programme québécois d'Initiatives de Travail de Milieu auprès des Aînés en situation de Vulnérabilité (ITMAV) permettant aux personnes âgées de reprendre du pouvoir sur leur vie\, d’améliorer leur qualité de vie et de briser leur isolement. Les nombreux services du Centre de Bénévolat de la Rive-Sud seront aussi présentés. \n\nPour plus de renseignements : \n\nhttps://biblio.brossard.ca/activites/initiatives-de-travail-de-milieu-aupres-des-aines-vulnerables-1er-mai-2026/
ATTACH;FMTTYPE=image/jpeg:https://biblio.brossard.ca/wp-content/uploads/2026/02/aines_bonheur.jpg
CATEGORIES:Activités à venir,Activités adultes,Après-midis poivre et sel
LOCATION:Bibliothèque de Brossard Georgette-Lepage -  Salle d'animation
GEO:45.455104;-73.468254
X-APPLE-STRUCTURED-LOCATION;VALUE=URI;X-ADDRESS=7855\, av San Francisco\, B
 rossard\, Qc\, J4X 2A4\, Canada;X-APPLE-RADIUS=100;X-TITLE=Salle d'animati
 on:geo:45.455104,-73.468254
END:VEVENT
BEGIN:VEVENT
UID:6178@biblio.brossard.ca
DTSTART;TZID=America/New_York:20260508T133000
DTEND;TZID=America/New_York:20260508T153000
DTSTAMP:20260421T183722Z
URL:https://biblio.brossard.ca/activites/stress-et-sommeil-8-mai-2026/
SUMMARY:Stress et sommeil (8 mai 2026)
DESCRIPTION:Votre sommeil est-il satisfaisant ? Ce besoin essentiel est parfois difficile à optimiser. Pourtant\, il s'agit d'un paramètre d'une importance capitale au maintien d'une bonne santé. Au cours de cette conférence donnée par Charlène Bourgon\, naturopathe membre de l’ANPQ\, vous en apprendrez davantage sur les différents trucs naturels qui permettent d'améliorer le sommeil. Que ce soit par l'alimentation\, la gestion du stress\, l'aromathérapie\, l'herboristerie ou tout autre outil que la nature nous offre\, il existe plusieurs pistes de solution ! \n\nPour plus de renseignements : \n\nhttps://biblio.brossard.ca/activites/stress-et-sommeil-8-mai-2026/
ATTACH;FMTTYPE=image/jpeg:https://biblio.brossard.ca/wp-content/uploads/2025/02/charlene_bourgon.jpg
CATEGORIES:Activités à venir,Activités adultes,Après-midis poivre et sel
LOCATION:Bibliothèque de Brossard Georgette-Lepage -  Salle d'animation
GEO:45.455104;-73.468254
X-APPLE-STRUCTURED-LOCATION;VALUE=URI;X-ADDRESS=7855\, av San Francisco\, B
 rossard\, Qc\, J4X 2A4\, Canada;X-APPLE-RADIUS=100;X-TITLE=Salle d'animati
 on:geo:45.455104,-73.468254
END:VEVENT
BEGIN:VEVENT
UID:6168@biblio.brossard.ca
DTSTART;TZID=America/New_York:20260514T133000
DTEND;TZID=America/New_York:20260514T153000
DTSTAMP:20260304T180839Z
URL:https://biblio.brossard.ca/activites/jeux-de-societe-14-mai-2026/
SUMMARY:Jeux de société (14 mai 2026)
DESCRIPTION:Vous avez la curiosité d’apprendre de nouveaux jeux\, on vous attend. Cette activité s'adresse à toutes les personnes qui désirent s'amuser et socialiser en jouant dans une ambiance conviviale. En partenariat avec le Club de la FADOQ de Brossard.\n\nPour plus de renseignements : \n\nhttps://biblio.brossard.ca/activites/jeux-de-societe-14-mai-2026/
ATTACH;FMTTYPE=image/jpeg:https://biblio.brossard.ca/wp-content/uploads/2026/02/jeux_societe_aine.jpg
CATEGORIES:Activités à venir,Activités adultes,Après-midis poivre et sel
LOCATION:Bibliothèque de Brossard Georgette-Lepage -  L’Atelier
GEO:45.455134;-73.468246
X-APPLE-STRUCTURED-LOCATION;VALUE=URI;X-ADDRESS=7855\, av San Francisco\, B
 rossard\, Qc\, J4X 2A4\, Canada;X-APPLE-RADIUS=100;X-TITLE=L’Atelier:geo
 :45.455134,-73.468246
END:VEVENT
BEGIN:VEVENT
UID:6176@biblio.brossard.ca
DTSTART;TZID=America/New_York:20260515T133000
DTEND;TZID=America/New_York:20260515T153000
DTSTAMP:20260414T235615Z
URL:https://biblio.brossard.ca/activites/jeux-video-et-les-aine-es-17-avril-2026/
SUMMARY:La réalité virtuelle pour les aînés (15 mai 2026)
DESCRIPTION:Entrez dans une œuvre de Vincent van Gogh ou de Salvador Dali ou créez vous-même une œuvre artistique. Explorez les profondeurs de la mer ou découvrez ce qui se trouve en surface avec Google Earth. Revivez la mission Apollo 11 qui est allée sur la Lune ou regardez le film Le Voyage dans la Lune en version réalité virtuelle. Vous pourrez également être cuisinier dans un restaurant\, garagiste\, travailler au comptoir d’un dépanneur ou simplement être un employé de bureau. Avec Éric Vallières\, bibliothécaire\, agent de système.\n\nVoir la liste complète des expériences.\n\nPour plus de renseignements : \n\nhttps://biblio.brossard.ca/activites/jeux-video-et-les-aine-es-17-avril-2026/
ATTACH;FMTTYPE=image/jpeg:https://biblio.brossard.ca/wp-content/uploads/2024/09/realite_virtuelle_aine.jpg
CATEGORIES:Activités à venir,Activités adultes,Après-midis poivre et sel
LOCATION:Bibliothèque de Brossard Georgette-Lepage -  Salle d'animation
GEO:45.455104;-73.468254
X-APPLE-STRUCTURED-LOCATION;VALUE=URI;X-ADDRESS=7855\, av San Francisco\, B
 rossard\, Qc\, J4X 2A4\, Canada;X-APPLE-RADIUS=100;X-TITLE=Salle d'animati
 on:geo:45.455104,-73.468254
END:VEVENT
BEGIN:VEVENT
UID:6226@biblio.brossard.ca
DTSTART;TZID=America/New_York:20260529T133000
DTEND;TZID=America/New_York:20260529T153000
DTSTAMP:20260304T180839Z
URL:https://biblio.brossard.ca/activites/la-photographie-pour-les-aines-29-mai/
SUMMARY:La photographie pour les ainés (29 mai 2026)
DESCRIPTION:Vincent Marchessault\, conférencier et photographe\, vous montrera comment réaliser de bonnes photos sans utiliser du matériel dispendieux et encombrant. Cet atelier pratique vise à transmettre au grand public les moyens de maximiser la qualité de ses images et s’adresse principalement aux possesseurs d’un appareil photo\, mais également à ceux qui utilisent leur téléphone cellulaire.\n\nPour plus de renseignements : \n\nhttps://biblio.brossard.ca/activites/la-photographie-pour-les-aines-29-mai/
ATTACH;FMTTYPE=image/jpeg:https://biblio.brossard.ca/wp-content/uploads/2026/02/florence_vmarchessault_photographie.jpg
CATEGORIES:Activités à venir,Activités adultes,Après-midis poivre et sel
LOCATION:Bibliothèque de Brossard Georgette-Lepage -  Salle d'animation
GEO:45.455104;-73.468254
X-APPLE-STRUCTURED-LOCATION;VALUE=URI;X-ADDRESS=7855\, av San Francisco\, B
 rossard\, Qc\, J4X 2A4\, Canada;X-APPLE-RADIUS=100;X-TITLE=Salle d'animati
 on:geo:45.455104,-73.468254
END:VEVENT
BEGIN:VEVENT
UID:6169@biblio.brossard.ca
DTSTART;TZID=America/New_York:20260611T133000
DTEND;TZID=America/New_York:20260611T153000
DTSTAMP:20260304T180839Z
URL:https://biblio.brossard.ca/activites/jeux-de-societe-11-juin-2026/
SUMMARY:Jeux de société (11 juin 2026)
DESCRIPTION:Vous avez la curiosité d’apprendre de nouveaux jeux\, on vous attend. Cette activité s'adresse à toutes les personnes qui désirent s'amuser et socialiser en jouant dans une ambiance conviviale. En partenariat avec le Club de la FADOQ de Brossard.\n\nPour plus de renseignements : \n\nhttps://biblio.brossard.ca/activites/jeux-de-societe-11-juin-2026/
ATTACH;FMTTYPE=image/jpeg:https://biblio.brossard.ca/wp-content/uploads/2026/02/jeux_societe_aine.jpg
CATEGORIES:Activités à venir,Activités adultes,Après-midis poivre et sel
LOCATION:Bibliothèque de Brossard Georgette-Lepage -  L’Atelier
GEO:45.455134;-73.468246
X-APPLE-STRUCTURED-LOCATION;VALUE=URI;X-ADDRESS=7855\, av San Francisco\, B
 rossard\, Qc\, J4X 2A4\, Canada;X-APPLE-RADIUS=100;X-TITLE=L’Atelier:geo
 :45.455134,-73.468246
END:VEVENT
BEGIN:VTIMEZONE
TZID:America/New_York
X-LIC-LOCATION:America/New_York
BEGIN:DAYLIGHT
DTSTART:20260308T030000
TZOFFSETFROM:-0500
TZOFFSETTO:-0400
TZNAME:EDT
END:DAYLIGHT
END:VTIMEZONE
END:VCALENDAR