BEGIN:VCALENDAR
VERSION:2.0
PRODID:-//wp-events-plugin.com//7.2.3.1//EN
TZID:America/New_York
X-WR-TIMEZONE:America/New_York
BEGIN:VEVENT
UID:6211@biblio.brossard.ca
DTSTART;TZID=America/New_York:20260505T190000
DTEND;TZID=America/New_York:20260505T200000
DTSTAMP:20260305T145028Z
URL:https://biblio.brossard.ca/activites/heure-de-decouverte-limpression-et-la-decoupe-vinyle-5-mai-2026/
SUMMARY:Heure de découverte : l'impression et la découpe vinyle (5 mai 2026)
DESCRIPTION:Sans création pratique\, la série d'activité d'introduction « l'Heure de découverte » propose des démonstrations et des présentations interactives. Une porte d'entrée idéale pour explorer le Fab Lab et y découvrir le fonctionnement des équipements offerts ainsi que le potentiel des projets qui peuvent y être réalisés.\n\nLors de cette activité\, découvrez le potentiel fascinant de la découpe et l'impression sur vinyle.\n\nNiveau : Introduction\n\n\nPour plus de renseignements : \n\nhttps://biblio.brossard.ca/activites/heure-de-decouverte-limpression-et-la-decoupe-vinyle-5-mai-2026/
ATTACH;FMTTYPE=image/jpeg:https://biblio.brossard.ca/wp-content/uploads/2025/08/imprimante_vinyle.png
CATEGORIES:Activités à venir,Fab Lab,Heure de découverte
LOCATION:Bibliothèque de Brossard Georgette-Lepage -  Fab Lab
GEO:45.455128;-73.468254
X-APPLE-STRUCTURED-LOCATION;VALUE=URI;X-ADDRESS=7855\, av San Francisco\, B
 rossard\, Qc\, J4X 2A4\, Canada;X-APPLE-RADIUS=100;X-TITLE=Fab Lab:geo:45.
 455128,-73.468254
END:VEVENT
BEGIN:VEVENT
UID:6212@biblio.brossard.ca
DTSTART;TZID=America/New_York:20260519T190000
DTEND;TZID=America/New_York:20260519T200000
DTSTAMP:20260305T145441Z
URL:https://biblio.brossard.ca/activites/heure-de-decouverte-limpression-par-sublimation-19-mai-2026/
SUMMARY:Heure de découverte : l'impression par sublimation (19 mai 2026)
DESCRIPTION:Sans création pratique\, la série d'activité d'introduction « l'Heure de découverte » propose des démonstrations et des présentations interactives. Une porte d'entrée idéale pour explorer le Fab Lab et y découvrir le fonctionnement des équipements offerts ainsi que le potentiel des projets qui peuvent y être réalisés.\n\nLors de cette activité\, découvrez le potentiel fascinant de l'impression par sublimation.\n\nNiveau : Introduction\n\n\n\nPour plus de renseignements : \n\nhttps://biblio.brossard.ca/activites/heure-de-decouverte-limpression-par-sublimation-19-mai-2026/
ATTACH;FMTTYPE=image/jpeg:https://biblio.brossard.ca/wp-content/uploads/2026/02/sublimation.jpg
CATEGORIES:Activités à venir,Fab Lab,Heure de découverte
LOCATION:Bibliothèque de Brossard Georgette-Lepage -  Fab Lab
GEO:45.455128;-73.468254
X-APPLE-STRUCTURED-LOCATION;VALUE=URI;X-ADDRESS=7855\, av San Francisco\, B
 rossard\, Qc\, J4X 2A4\, Canada;X-APPLE-RADIUS=100;X-TITLE=Fab Lab:geo:45.
 455128,-73.468254
END:VEVENT
BEGIN:VEVENT
UID:6223@biblio.brossard.ca
DTSTART;TZID=America/New_York:20260609T190000
DTEND;TZID=America/New_York:20260609T200000
DTSTAMP:20260305T145714Z
URL:https://biblio.brossard.ca/activites/heure-de-decouverte-la-decoupe-papier-9-juin-2026/
SUMMARY:Heure de découverte : la découpe papier (9 juin 2026)
DESCRIPTION:Sans création pratique\, la série d'activité d'introduction « l'Heure de découverte » propose des démonstrations et des présentations interactives. Une porte d'entrée idéale pour explorer le Fab Lab et y découvrir le fonctionnement des équipements offerts ainsi que le potentiel des projets qui peuvent y être réalisés.\n\nLors de cette activité\, découvrez le potentiel fascinant de la découpe papier.\n\nNiveau : Introduction\n\n\nPour plus de renseignements : \n\nhttps://biblio.brossard.ca/activites/heure-de-decouverte-la-decoupe-papier-9-juin-2026/
ATTACH;FMTTYPE=image/jpeg:https://biblio.brossard.ca/wp-content/uploads/2024/08/decoupe_papier.jpg
CATEGORIES:Activités à venir,Fab Lab,Heure de découverte
LOCATION:Bibliothèque de Brossard Georgette-Lepage -  Fab Lab
GEO:45.455128;-73.468254
X-APPLE-STRUCTURED-LOCATION;VALUE=URI;X-ADDRESS=7855\, av San Francisco\, B
 rossard\, Qc\, J4X 2A4\, Canada;X-APPLE-RADIUS=100;X-TITLE=Fab Lab:geo:45.
 455128,-73.468254
END:VEVENT
BEGIN:VTIMEZONE
TZID:America/New_York
X-LIC-LOCATION:America/New_York
BEGIN:DAYLIGHT
DTSTART:20260308T030000
TZOFFSETFROM:-0500
TZOFFSETTO:-0400
TZNAME:EDT
END:DAYLIGHT
END:VTIMEZONE
END:VCALENDAR