BEGIN:VCALENDAR
VERSION:2.0
PRODID:-//wp-events-plugin.com//7.2.3.1//EN
TZID:America/New_York
X-WR-TIMEZONE:America/New_York
BEGIN:VEVENT
UID:6238@biblio.brossard.ca
DTSTART;TZID=America/New_York:20260509T140000
DTEND;TZID=America/New_York:20260509T153000
DTSTAMP:20260409T171539Z
URL:https://biblio.brossard.ca/activites/atelier-de-zootherapie-enfants-a-besoins-particuliers-9-mai/
SUMMARY:Atelier de zoothérapie – Enfants à besoins particuliers (9 mai)
DESCRIPTION:Cet atelier\, sous la forme de séances individuelles de 15 minutes\, offre aux enfants ayant des besoins particuliers un moment de rencontre personnalisé avec une intervenante en zoothérapie spécialisée dans l’accompagnement de cette clientèle.\n\nChaque séance est adaptée aux besoins spécifiques de l’enfant afin de favoriser la détente\, la communication\, l’estime de soi et le bien-être général.\n\nLes familles peuvent réserver une plage horaire individuelle pour permettre à l’enfant de vivre un moment unique en compagnie d’un chien partenaire.\n\nUn court questionnaire préalable est fourni afin de mieux cibler les objectifs et d’assurer une expérience sécurisante\, bienveillante et adaptée. L’activité est conçue selon les besoins communicationnels\, émotionnels ou sensoriels de l’enfant.\n\nImportant : L’atelier est réservé aux enfants n’ayant pas d’allergie ni de peur liée au chien. La présence d’un parent est obligatoire.\n\n\nPour plus de renseignements : \n\nhttps://biblio.brossard.ca/activites/atelier-de-zootherapie-enfants-a-besoins-particuliers-9-mai/
ATTACH;FMTTYPE=image/jpeg:https://biblio.brossard.ca/wp-content/uploads/2026/04/enfants_besoins_particuliers_zootherapie.jpg
CATEGORIES:Activités à venir,Activités enfants,Enfants à besoins particuliers
LOCATION:Bibliothèque de Brossard Georgette-Lepage -  Salle d'animation
GEO:45.455104;-73.468254
X-APPLE-STRUCTURED-LOCATION;VALUE=URI;X-ADDRESS=7855\, av San Francisco\, B
 rossard\, Qc\, J4X 2A4\, Canada;X-APPLE-RADIUS=100;X-TITLE=Salle d'animati
 on:geo:45.455104,-73.468254
END:VEVENT
BEGIN:VTIMEZONE
TZID:America/New_York
X-LIC-LOCATION:America/New_York
BEGIN:DAYLIGHT
DTSTART:20260308T030000
TZOFFSETFROM:-0500
TZOFFSETTO:-0400
TZNAME:EDT
END:DAYLIGHT
END:VTIMEZONE
END:VCALENDAR