BEGIN:VCALENDAR
VERSION:2.0
PRODID:-//wp-events-plugin.com//7.2.3.1//EN
TZID:America/New_York
X-WR-TIMEZONE:America/New_York
BEGIN:VEVENT
UID:5621@biblio.brossard.ca
DTSTART;TZID=America/New_York:20260506T170000
DTEND;TZID=America/New_York:20260506T190000
DTSTAMP:20250826T135156Z
URL:https://biblio.brossard.ca/activites/collecte-de-dons-6-mai/
SUMMARY:Collecte de dons (6 mai)
DESCRIPTION:Les Amis acceptent les dons de livres (français et anglais) : bandes dessinées\, biographies\, livres pour enfants\, histoire\, pédagogie\, philosophie\, politique\, romans\, sciences\, sociologie\, cuisine\, voyages. Les encyclopédies ne sont pas acceptées car nous manquons de place. Nous comptons sur votre générosité.\n\nPour plus de renseignements : \n\nhttps://biblio.brossard.ca/activites/collecte-de-dons-6-mai/
ATTACH;FMTTYPE=image/jpeg:https://biblio.brossard.ca/wp-content/uploads/2024/09/collecte_braderie.jpg
CATEGORIES:Activités à venir,Collecte de dons
LOCATION:Bibliothèque de Brossard Georgette-Lepage -  Hall commun
GEO:45.454994;-73.468072
X-APPLE-STRUCTURED-LOCATION;VALUE=URI;X-ADDRESS=7855\, av San Francisco\, B
 rossard\, Qc\, J4X 2A4\, Canada;X-APPLE-RADIUS=100;X-TITLE=Hall commun:geo
 :45.454994,-73.468072
END:VEVENT
BEGIN:VEVENT
UID:5622@biblio.brossard.ca
DTSTART;TZID=America/New_York:20260603T170000
DTEND;TZID=America/New_York:20260603T190000
DTSTAMP:20250826T135228Z
URL:https://biblio.brossard.ca/activites/collecte-de-dons-3-juin/
SUMMARY:Collecte de dons (3 juin)
DESCRIPTION:Les Amis acceptent les dons de livres (français et anglais) : bandes dessinées\, biographies\, livres pour enfants\, histoire\, pédagogie\, philosophie\, politique\, romans\, sciences\, sociologie\, cuisine\, voyages. Les encyclopédies ne sont pas acceptées car nous manquons de place. Nous comptons sur votre générosité.\n\nPour plus de renseignements : \n\nhttps://biblio.brossard.ca/activites/collecte-de-dons-3-juin/
ATTACH;FMTTYPE=image/jpeg:https://biblio.brossard.ca/wp-content/uploads/2024/09/collecte_braderie.jpg
CATEGORIES:Activités à venir,Collecte de dons
LOCATION:Bibliothèque de Brossard Georgette-Lepage -  Hall commun
GEO:45.454994;-73.468072
X-APPLE-STRUCTURED-LOCATION;VALUE=URI;X-ADDRESS=7855\, av San Francisco\, B
 rossard\, Qc\, J4X 2A4\, Canada;X-APPLE-RADIUS=100;X-TITLE=Hall commun:geo
 :45.454994,-73.468072
END:VEVENT
BEGIN:VTIMEZONE
TZID:America/New_York
X-LIC-LOCATION:America/New_York
BEGIN:DAYLIGHT
DTSTART:20260308T030000
TZOFFSETFROM:-0500
TZOFFSETTO:-0400
TZNAME:EDT
END:DAYLIGHT
END:VTIMEZONE
END:VCALENDAR