BEGIN:VCALENDAR
VERSION:2.0
PRODID:-//wp-events-plugin.com//7.2.3.1//EN
TZID:America/New_York
X-WR-TIMEZONE:America/New_York
BEGIN:VEVENT
UID:6189@biblio.brossard.ca
DTSTART;TZID=America/New_York:20260425T100000
DTEND;TZID=America/New_York:20260425T103000
DTSTAMP:20260306T181232Z
URL:https://biblio.brossard.ca/activites/biblio-famille-pays-des-gnomes-7-tornade-au-pays-des-gnomes-25-avril-2026/
SUMMARY:Biblio-Famille : Pays des gnomes 7 – Tornade au pays des gnomes (25 avril 2026)
DESCRIPTION:Une tornade s’est produite au pays des gnomes ! Des objets et des animaux se sont retrouvés éparpillés partout et les gnomes ont besoin de l’aide des tout-petits pour tout replacer. \n\nLes activités ludiques proposées dans ce pays favorisent la compréhension du langage\, l’expression des premiers mots et de courtes phrases.\n\nPour plus de renseignements : \n\nhttps://biblio.brossard.ca/activites/biblio-famille-pays-des-gnomes-7-tornade-au-pays-des-gnomes-25-avril-2026/
ATTACH;FMTTYPE=image/jpeg:https://biblio.brossard.ca/wp-content/uploads/2024/09/biblio-famille_gnome.jpg
CATEGORIES:Activités à venir,Activités enfants,Biblio-Famille,Heures du conte
LOCATION:Bibliothèque de Brossard Georgette-Lepage -  Salle d'animation
GEO:45.455104;-73.468254
X-APPLE-STRUCTURED-LOCATION;VALUE=URI;X-ADDRESS=7855\, av San Francisco\, B
 rossard\, Qc\, J4X 2A4\, Canada;X-APPLE-RADIUS=100;X-TITLE=Salle d'animati
 on:geo:45.455104,-73.468254
END:VEVENT
BEGIN:VEVENT
UID:6191@biblio.brossard.ca
DTSTART;TZID=America/New_York:20260425T110000
DTEND;TZID=America/New_York:20260425T120000
DTSTAMP:20260306T195917Z
URL:https://biblio.brossard.ca/activites/biblio-famille-pays-des-pirates-1-a-la-recherche-du-tresor-perdu-25-avril-2026/
SUMMARY:Biblio-Famille : Pays des pirates 1 – À la recherche du trésor perdu (25 avril 2026)
DESCRIPTION:Les apprentis pirates seront-ils prêts à relever tous les défis pour retrouver le trésor du Capitaine Mangemots?\n\nLes livres\, chansons et activités de ce pays favorisent le plaisir et l’intérêt pour les livres tout en développant la conscience de l’écrit dans l’environnement de l’enfant.  \n\n\nPour plus de renseignements : \n\nhttps://biblio.brossard.ca/activites/biblio-famille-pays-des-pirates-1-a-la-recherche-du-tresor-perdu-25-avril-2026/
ATTACH;FMTTYPE=image/jpeg:https://biblio.brossard.ca/wp-content/uploads/2026/02/biblio-famille_pirate.jpg
CATEGORIES:Activités à venir,Activités enfants,Biblio-Famille,Heures du conte
LOCATION:Bibliothèque de Brossard Georgette-Lepage -  Salle d'animation
GEO:45.455104;-73.468254
X-APPLE-STRUCTURED-LOCATION;VALUE=URI;X-ADDRESS=7855\, av San Francisco\, B
 rossard\, Qc\, J4X 2A4\, Canada;X-APPLE-RADIUS=100;X-TITLE=Salle d'animati
 on:geo:45.455104,-73.468254
END:VEVENT
BEGIN:VEVENT
UID:6190@biblio.brossard.ca
DTSTART;TZID=America/New_York:20260530T100000
DTEND;TZID=America/New_York:20260530T103000
DTSTAMP:20260306T181401Z
URL:https://biblio.brossard.ca/activites/biblio-famille-pays-des-gnomes-8-les-bebes-animaux-30-mai-2026/
SUMMARY:Biblio-Famille : Pays des gnomes 8 – Les bébés animaux (30 mai 2026)
DESCRIPTION:Au pays des gnomes\, il est possible de faire la rencontre de plusieurs animaux ! Aujourd’hui\, il faut aider les bébés animaux à retrouver leur famille. \n\nLes activités ludiques proposées dans ce pays favorisent la compréhension du langage\, l’expression des premiers mots et de courtes phrases.\n\nPour plus de renseignements : \n\nhttps://biblio.brossard.ca/activites/biblio-famille-pays-des-gnomes-8-les-bebes-animaux-30-mai-2026/
ATTACH;FMTTYPE=image/jpeg:https://biblio.brossard.ca/wp-content/uploads/2024/09/biblio-famille_gnome.jpg
CATEGORIES:Activités à venir,Activités enfants,Biblio-Famille,Heures du conte
LOCATION:Bibliothèque de Brossard Georgette-Lepage -  Salle d'animation
GEO:45.455104;-73.468254
X-APPLE-STRUCTURED-LOCATION;VALUE=URI;X-ADDRESS=7855\, av San Francisco\, B
 rossard\, Qc\, J4X 2A4\, Canada;X-APPLE-RADIUS=100;X-TITLE=Salle d'animati
 on:geo:45.455104,-73.468254
END:VEVENT
BEGIN:VEVENT
UID:6192@biblio.brossard.ca
DTSTART;TZID=America/New_York:20260530T110000
DTEND;TZID=America/New_York:20260530T120000
DTSTAMP:20260306T200024Z
URL:https://biblio.brossard.ca/activites/biblio-famille-pays-des-pirates-2-un-mystere-en-mer-30-mai-2026/
SUMMARY:Biblio-Famille : Pays des pirates 2 – Un mystère en mer (30 mai 2026)
DESCRIPTION:Partons à l'aventure avec le pirate Atoulu qui adore raconter des histoires! \n\nLes livres\, chansons et activités de ce pays favorisent le plaisir et l’intérêt pour les livres tout en développant la conscience de l’écrit dans l’environnement de l’enfant.  \n\n\nPour plus de renseignements : \n\nhttps://biblio.brossard.ca/activites/biblio-famille-pays-des-pirates-2-un-mystere-en-mer-30-mai-2026/
ATTACH;FMTTYPE=image/jpeg:https://biblio.brossard.ca/wp-content/uploads/2026/02/biblio-famille_pirate.jpg
CATEGORIES:Activités à venir,Activités enfants,Biblio-Famille,Heures du conte
LOCATION:Bibliothèque de Brossard Georgette-Lepage -  Salle d'animation
GEO:45.455104;-73.468254
X-APPLE-STRUCTURED-LOCATION;VALUE=URI;X-ADDRESS=7855\, av San Francisco\, B
 rossard\, Qc\, J4X 2A4\, Canada;X-APPLE-RADIUS=100;X-TITLE=Salle d'animati
 on:geo:45.455104,-73.468254
END:VEVENT
BEGIN:VTIMEZONE
TZID:America/New_York
X-LIC-LOCATION:America/New_York
BEGIN:DAYLIGHT
DTSTART:20260308T030000
TZOFFSETFROM:-0500
TZOFFSETTO:-0400
TZNAME:EDT
END:DAYLIGHT
END:VTIMEZONE
END:VCALENDAR