BEGIN:VCALENDAR
VERSION:2.0
PRODID:-//wp-events-plugin.com//7.2.3.1//EN
TZID:America/New_York
X-WR-TIMEZONE:America/New_York
BEGIN:VEVENT
UID:6171@biblio.brossard.ca
DTSTART;TZID=America/New_York:20260505T190000
DTEND;TZID=America/New_York:20260505T210000
DTSTAMP:20260304T181033Z
URL:https://biblio.brossard.ca/activites/ateliers-de-conversation-en-francais-5-mai-2026/
SUMMARY:Ateliers de conversation en français (5 mai 2026)
DESCRIPTION:Ces ateliers aideront les participants à perfectionner leur prononciation et à enrichir leur vocabulaire\, peu importe leur niveau de maîtrise de la langue.\n\nPour plus de renseignements : \n\nhttps://biblio.brossard.ca/activites/ateliers-de-conversation-en-francais-5-mai-2026/
ATTACH;FMTTYPE=image/jpeg:https://biblio.brossard.ca/wp-content/uploads/2024/07/conversations.jpg
CATEGORIES:Activités à venir,Activités adultes,Activités interculturelles,Ateliers de conversation en français
LOCATION:Bibliothèque de Brossard Georgette-Lepage -  Salle d'animation
GEO:45.455104;-73.468254
X-APPLE-STRUCTURED-LOCATION;VALUE=URI;X-ADDRESS=7855\, av San Francisco\, B
 rossard\, Qc\, J4X 2A4\, Canada;X-APPLE-RADIUS=100;X-TITLE=Salle d'animati
 on:geo:45.455104,-73.468254
END:VEVENT
BEGIN:VEVENT
UID:6172@biblio.brossard.ca
DTSTART;TZID=America/New_York:20260602T190000
DTEND;TZID=America/New_York:20260602T210000
DTSTAMP:20260304T181033Z
URL:https://biblio.brossard.ca/activites/ateliers-de-conversation-en-francais-2-juin-2026/
SUMMARY:Ateliers de conversation en français (2 juin 2026)
DESCRIPTION:Ces ateliers aideront les participants à perfectionner leur prononciation et à enrichir leur vocabulaire\, peu importe leur niveau de maîtrise de la langue.\n\nPour plus de renseignements : \n\nhttps://biblio.brossard.ca/activites/ateliers-de-conversation-en-francais-2-juin-2026/
ATTACH;FMTTYPE=image/jpeg:https://biblio.brossard.ca/wp-content/uploads/2024/07/conversations.jpg
CATEGORIES:Activités à venir,Activités adultes,Activités interculturelles,Ateliers de conversation en français
LOCATION:Bibliothèque de Brossard Georgette-Lepage -  Salle d'animation
GEO:45.455104;-73.468254
X-APPLE-STRUCTURED-LOCATION;VALUE=URI;X-ADDRESS=7855\, av San Francisco\, B
 rossard\, Qc\, J4X 2A4\, Canada;X-APPLE-RADIUS=100;X-TITLE=Salle d'animati
 on:geo:45.455104,-73.468254
END:VEVENT
BEGIN:VTIMEZONE
TZID:America/New_York
X-LIC-LOCATION:America/New_York
BEGIN:DAYLIGHT
DTSTART:20260308T030000
TZOFFSETFROM:-0500
TZOFFSETTO:-0400
TZNAME:EDT
END:DAYLIGHT
END:VTIMEZONE
END:VCALENDAR