BEGIN:VCALENDAR
VERSION:2.0
PRODID:-//wp-events-plugin.com//7.2.3.1//EN
TZID:America/New_York
X-WR-TIMEZONE:America/New_York
BEGIN:VEVENT
UID:6156@biblio.brossard.ca
DTSTART;TZID=America/New_York:20260330T100000
DTEND;TZID=America/New_York:20260601T103000
DTSTAMP:20260302T203531Z
URL:https://biblio.brossard.ca/activites/conversons-en-anglais-30-mars-13-20-et-27-avril-27-avril-4-11-et-25-mai-1er-juin-2026/
SUMMARY:Conversons en anglais (en ligne) (30 mars\; 13\, 20\, et 27 avril\; 4\, 11 et 25 mai\; 1er juin 2026)
DESCRIPTION:Lors de cette période d'une demi-heure par semaine\, vous serez jumelé avec une personne qui parle anglais afin de converser avec elle. Vous pourrez ainsi améliorer votre compréhension de la langue et pratiquer votre communication orale.\n\nPour plus de renseignements : \n\nhttps://biblio.brossard.ca/activites/conversons-en-anglais-30-mars-13-20-et-27-avril-27-avril-4-11-et-25-mai-1er-juin-2026/
ATTACH;FMTTYPE=image/jpeg:https://biblio.brossard.ca/wp-content/uploads/2024/07/conversations.jpg
CATEGORIES:Activités à venir,Activités adultes,Ateliers de conversation en anglais
LOCATION:Bibliothèque de Brossard Georgette-Lepage -  En ligne
GEO:45.45511;-73.46828
X-APPLE-STRUCTURED-LOCATION;VALUE=URI;X-ADDRESS=7855\, av San Francisco\, B
 rossard\, Québec\, J4X 2A4\, Canada;X-APPLE-RADIUS=100;X-TITLE=En ligne:g
 eo:45.45511,-73.46828
END:VEVENT
BEGIN:VTIMEZONE
TZID:America/New_York
X-LIC-LOCATION:America/New_York
BEGIN:DAYLIGHT
DTSTART:20260308T030000
TZOFFSETFROM:-0500
TZOFFSETTO:-0400
TZNAME:EDT
END:DAYLIGHT
END:VTIMEZONE
END:VCALENDAR