BEGIN:VCALENDAR
VERSION:2.0
PRODID:-//wp-events-plugin.com//7.2.3.1//EN
TZID:America/New_York
X-WR-TIMEZONE:America/New_York
BEGIN:VEVENT
UID:6165@biblio.brossard.ca
DTSTART;TZID=America/New_York:20260515T100000
DTEND;TZID=America/New_York:20260515T113000
DTSTAMP:20260304T180929Z
URL:https://biblio.brossard.ca/activites/la-gestion-des-emotions-le-parcours-du-bien-etre-en-ligne/
SUMMARY:La gestion des émotions : le parcours du bien-être (en ligne) (15 mai 2026)
DESCRIPTION:Cet atelier aborde les émotions\, les besoins associés et leurs impacts sur notre bien-être. À travers des activités ludiques\, nous allons explorer les étapes de la régulation des émotions et expérimenter des stratégies de gestion des émotions. Dans une approche combinant psychologie et ludopédagogie\, vous apprendrez comment bien identifier et communiquer vos émotions pour favoriser une saine gestion des émotions au quotidien. Avec Elsa Brais-Dussault\, psychologue\, formatrice et chercheuse.  \n\nPour plus de renseignements : \n\nhttps://biblio.brossard.ca/activites/la-gestion-des-emotions-le-parcours-du-bien-etre-en-ligne/
ATTACH;FMTTYPE=image/jpeg:https://biblio.brossard.ca/wp-content/uploads/2026/02/elsa_brais-dussault.jpg
CATEGORIES:Activités à venir,Activités adultes,Mes affaires
LOCATION:https://us02web.zoom.us/j/88614855221?pwd=W9e7boHbXzFkCsTlY6LZGBQW
 LljYST.1
END:VEVENT
BEGIN:VTIMEZONE
TZID:America/New_York
X-LIC-LOCATION:America/New_York
BEGIN:DAYLIGHT
DTSTART:20260308T030000
TZOFFSETFROM:-0500
TZOFFSETTO:-0400
TZNAME:EDT
END:DAYLIGHT
END:VTIMEZONE
END:VCALENDAR