BEGIN:VCALENDAR
VERSION:2.0
PRODID:-//wp-events-plugin.com//7.2.3.1//EN
TZID:America/New_York
X-WR-TIMEZONE:America/New_York
BEGIN:VEVENT
UID:6158@biblio.brossard.ca
DTSTART;TZID=America/New_York:20260504T133000
DTEND;TZID=America/New_York:20260504T153000
DTSTAMP:20260316T182217Z
URL:https://biblio.brossard.ca/activites/causons-darthrite-4-mai-2026/
SUMMARY:[ANNULÉE] Causons d'arthrite (4 mai 2026)
DESCRIPTION:Activité annulée.\n\nRencontres d’entraide informelle sur des sujets reliés à l’arthrite.\n\nMicrosoft Teams Besoin d’aide?\nRejoignez la réunion maintenant\nNuméro de réunion : 239 330 666 510 7\nCode secret : tN94af3P\n\nPour plus de renseignements : \n\nhttps://biblio.brossard.ca/activites/causons-darthrite-4-mai-2026/
ATTACH;FMTTYPE=image/jpeg:https://biblio.brossard.ca/wp-content/uploads/2024/09/mieux-etre_arthrite.jpg
CATEGORIES:Activités à venir,Activités adultes,Arthrite Rive-Sud
LOCATION:Bibliothèque de Brossard Georgette-Lepage -  Salle d'animation
GEO:45.455104;-73.468254
X-APPLE-STRUCTURED-LOCATION;VALUE=URI;X-ADDRESS=7855\, av San Francisco\, B
 rossard\, Qc\, J4X 2A4\, Canada;X-APPLE-RADIUS=100;X-TITLE=Salle d'animati
 on:geo:45.455104,-73.468254
END:VEVENT
BEGIN:VEVENT
UID:6217@biblio.brossard.ca
DTSTART;TZID=America/New_York:20260511T133000
DTEND;TZID=America/New_York:20260511T153000
DTSTAMP:20260316T182340Z
URL:https://biblio.brossard.ca/activites/causons-darthrite-en-anglais-11-mai-2026/
SUMMARY:[ANNULÉE] Causons d'arthrite (en anglais) (11 mai 2026)
DESCRIPTION:Activité annulée.\n\nRencontres d’entraide informelle sur des sujets reliés à l’arthrite.\n\nMicrosoft Teams Besoin d’aide?\nRejoignez la réunion maintenant\nNuméro de réunion : 239 330 666 510 7\nCode secret : tN94af3P\n\nPour plus de renseignements : \n\nhttps://biblio.brossard.ca/activites/causons-darthrite-en-anglais-11-mai-2026/
ATTACH;FMTTYPE=image/jpeg:https://biblio.brossard.ca/wp-content/uploads/2024/09/mieux-etre_arthrite.jpg
CATEGORIES:Activités à venir,Activités adultes,Arthrite Rive-Sud
LOCATION:Bibliothèque de Brossard Georgette-Lepage -  Salle d'animation
GEO:45.455104;-73.468254
X-APPLE-STRUCTURED-LOCATION;VALUE=URI;X-ADDRESS=7855\, av San Francisco\, B
 rossard\, Qc\, J4X 2A4\, Canada;X-APPLE-RADIUS=100;X-TITLE=Salle d'animati
 on:geo:45.455104,-73.468254
END:VEVENT
BEGIN:VTIMEZONE
TZID:America/New_York
X-LIC-LOCATION:America/New_York
BEGIN:DAYLIGHT
DTSTART:20260308T030000
TZOFFSETFROM:-0500
TZOFFSETTO:-0400
TZNAME:EDT
END:DAYLIGHT
END:VTIMEZONE
END:VCALENDAR