BEGIN:VCALENDAR
VERSION:2.0
PRODID:-//wp-events-plugin.com//7.2.3.1//EN
TZID:America/New_York
X-WR-TIMEZONE:America/New_York
BEGIN:VEVENT
UID:6205@biblio.brossard.ca
DTSTART;TZID=America/New_York:20260516T101500
DTEND;TZID=America/New_York:20260516T121500
DTSTAMP:20260304T163625Z
URL:https://biblio.brossard.ca/activites/atelier-de-creation-film-muet-16-mai-2026/
SUMMARY:Atelier de création – Film muet (16 mai 2026)
DESCRIPTION:Silence on tourne! Plonge dans l’univers fascinant du cinéma muet\, où tout passe par les gestes\, les expressions et la musique! Dans cet atelier\, tu découvriras comment les premiers films étaient réalisés\, sans paroles\, mais remplis d’émotions et d’humour. En équipe\, tu imagineras un court scénario\, créeras les scènes\, choisiras la musique… puis tu tourneras ton propre mini-film muet. Une activité créative\, drôle et expressive\, digne du cinéma d’autrefois!\n\nPour plus de renseignements : \n\nhttps://biblio.brossard.ca/activites/atelier-de-creation-film-muet-16-mai-2026/
ATTACH;FMTTYPE=image/jpeg:https://biblio.brossard.ca/wp-content/uploads/2026/02/enfant_tournage_film.jpg
CATEGORIES:Activités à venir,Activités enfants,Techno-génial (STIM)
LOCATION:Bibliothèque de Brossard Georgette-Lepage -  Salle d'animation
GEO:45.455104;-73.468254
X-APPLE-STRUCTURED-LOCATION;VALUE=URI;X-ADDRESS=7855\, av San Francisco\, B
 rossard\, Qc\, J4X 2A4\, Canada;X-APPLE-RADIUS=100;X-TITLE=Salle d'animati
 on:geo:45.455104,-73.468254
END:VEVENT
BEGIN:VTIMEZONE
TZID:America/New_York
X-LIC-LOCATION:America/New_York
BEGIN:DAYLIGHT
DTSTART:20260308T030000
TZOFFSETFROM:-0500
TZOFFSETTO:-0400
TZNAME:EDT
END:DAYLIGHT
END:VTIMEZONE
END:VCALENDAR