BEGIN:VCALENDAR
VERSION:2.0
PRODID:-//wp-events-plugin.com//7.2.3.1//EN
TZID:America/New_York
X-WR-TIMEZONE:America/New_York
BEGIN:VEVENT
UID:6193@biblio.brossard.ca
DTSTART;TZID=America/New_York:20260425T140000
DTEND;TZID=America/New_York:20260425T150000
DTSTAMP:20260306T200305Z
URL:https://biblio.brossard.ca/activites/atelier-on-danse-on-bouge-25-avril-2026/
SUMMARY:Atelier On danse\, on bouge! (25 avril 2026)
DESCRIPTION:Le Zèbre Jaune invite les jeunes à un atelier de danse et de mouvement pour stimuler la souplesse\, la force\, l'endurance et le rythme. Les participants exploreront à l’aide de jeux d’improvisation dansés et créeront une mini-chorégraphie. \n\nLa séance d’échauffement inclura aussi divers styles de danse et de musique (hip-hop\, krump\, stepping\, contemporain\, jazz-tap\, etc.). Êtes-vous prêts à vous exprimer librement au rythme de la musique? \n\nPour plus de renseignements : \n\nhttps://biblio.brossard.ca/activites/atelier-on-danse-on-bouge-25-avril-2026/
ATTACH;FMTTYPE=image/jpeg:https://biblio.brossard.ca/wp-content/uploads/2026/02/enfants_danse.jpg
CATEGORIES:Activités à venir,Activités enfants,Activités enfants du samedi
LOCATION:Bibliothèque de Brossard Georgette-Lepage -  Salle d'animation
GEO:45.455104;-73.468254
X-APPLE-STRUCTURED-LOCATION;VALUE=URI;X-ADDRESS=7855\, av San Francisco\, B
 rossard\, Qc\, J4X 2A4\, Canada;X-APPLE-RADIUS=100;X-TITLE=Salle d'animati
 on:geo:45.455104,-73.468254
END:VEVENT
BEGIN:VEVENT
UID:6194@biblio.brossard.ca
DTSTART;TZID=America/New_York:20260502T140000
DTEND;TZID=America/New_York:20260502T150000
DTSTAMP:20260306T200836Z
URL:https://biblio.brossard.ca/activites/atelier-zoo-lecture-je-lis-avec-pitou-25-avril-2026/
SUMMARY:Atelier zoo-lecture : Je lis avec Pitou (2 mai 2026)
DESCRIPTION:L’atelier Je lis avec Pitou propose une activité de lecture accompagnée d’un chien partenaire et d’une intervenante en zoothérapie. Dans un environnement calme et bienveillant\, les enfants lisent à voix haute à leur rythme\, ce qui favorise la confiance\, la motivation et le plaisir de lire. Un doux moment avec un chien attachant! \n\nImportant : L’atelier s’adresse aux enfants sans allergie ni crainte des chiens. La présence d’un parent est requise.\n\n\nPour plus de renseignements : \n\nhttps://biblio.brossard.ca/activites/atelier-zoo-lecture-je-lis-avec-pitou-25-avril-2026/
ATTACH;FMTTYPE=image/jpeg:https://biblio.brossard.ca/wp-content/uploads/2026/02/zootherapie_lecture.jpg
CATEGORIES:Activités à venir,Activités enfants,Activités enfants du samedi
LOCATION:Bibliothèque de Brossard Georgette-Lepage -  Salle d'animation
GEO:45.455104;-73.468254
X-APPLE-STRUCTURED-LOCATION;VALUE=URI;X-ADDRESS=7855\, av San Francisco\, B
 rossard\, Qc\, J4X 2A4\, Canada;X-APPLE-RADIUS=100;X-TITLE=Salle d'animati
 on:geo:45.455104,-73.468254
END:VEVENT
BEGIN:VEVENT
UID:6195@biblio.brossard.ca
DTSTART;TZID=America/New_York:20260530T140000
DTEND;TZID=America/New_York:20260530T150000
DTSTAMP:20260306T201148Z
URL:https://biblio.brossard.ca/activites/explorer-la-planete-avec-pierre-luc-30-mai-2026/
SUMMARY:Explorer la planète avec Pierre-Luc (30 mai 2026)
DESCRIPTION:Lors de cette activité « tour du monde » destinée aux jeunes aventuriers\, Pierre-Luc partagera ses plus beaux souvenirs de voyage et des histoires vécues aux quatre coins du globe. Du Japon au Népal\, en passant par la Bolivie\, l’Europe\, l’Amérique centrale et la Polynésie française\, les enfants découvriront des lieux fascinants et quelques surprises dépaysantes. Une activité ludique et interactive pour éveiller la curiosité et le goût de l’aventure !\n\nPour plus de renseignements : \n\nhttps://biblio.brossard.ca/activites/explorer-la-planete-avec-pierre-luc-30-mai-2026/
ATTACH;FMTTYPE=image/jpeg:https://biblio.brossard.ca/wp-content/uploads/2026/02/pierre-luc_cote.jpg
CATEGORIES:Activités à venir,Activités enfants,Activités enfants du samedi
LOCATION:Bibliothèque de Brossard Georgette-Lepage -  Salle d'animation
GEO:45.455104;-73.468254
X-APPLE-STRUCTURED-LOCATION;VALUE=URI;X-ADDRESS=7855\, av San Francisco\, B
 rossard\, Qc\, J4X 2A4\, Canada;X-APPLE-RADIUS=100;X-TITLE=Salle d'animati
 on:geo:45.455104,-73.468254
END:VEVENT
BEGIN:VTIMEZONE
TZID:America/New_York
X-LIC-LOCATION:America/New_York
BEGIN:DAYLIGHT
DTSTART:20260308T030000
TZOFFSETFROM:-0500
TZOFFSETTO:-0400
TZNAME:EDT
END:DAYLIGHT
END:VTIMEZONE
END:VCALENDAR