BEGIN:VCALENDAR
VERSION:2.0
PRODID:-//wp-events-plugin.com//7.2.3.1//EN
TZID:America/New_York
X-WR-TIMEZONE:America/New_York
BEGIN:VEVENT
UID:6201@biblio.brossard.ca
DTSTART;TZID=America/New_York:20260519T100000
DTEND;TZID=America/New_York:20260519T120000
DTSTAMP:20260306T195244Z
URL:https://biblio.brossard.ca/activites/biblio-jeux-19-mai-2026/
SUMMARY:Atelier construction (19 mai 2026)
DESCRIPTION:Entrée libre. Les enfants âgés de moins de 8 ans doivent être accompagnés d’un adulte.\n\nLes enfants sont invités à venir profiter de leur journée de congé en réalisant une activité de construction dans la salle d’animation de l’Espace jeunes. Ils pourront alors découvrir différents types de matériaux pour réaliser des constructions hors-pairs (KEVA\, Plus-Plus\, Gears!\, blocs en bois\, pailles et connecteurs). \n\nActivité libre sans animation.\n\n\n\nPour plus de renseignements : \n\nhttps://biblio.brossard.ca/activites/biblio-jeux-19-mai-2026/
ATTACH;FMTTYPE=image/jpeg:https://biblio.brossard.ca/wp-content/uploads/2024/09/blocs_construction.jpg
CATEGORIES:Activités à venir,Activités enfants,Journées pédagogiques
LOCATION:Bibliothèque de Brossard Georgette-Lepage -  Salle d'animation
GEO:45.455104;-73.468254
X-APPLE-STRUCTURED-LOCATION;VALUE=URI;X-ADDRESS=7855\, av San Francisco\, B
 rossard\, Qc\, J4X 2A4\, Canada;X-APPLE-RADIUS=100;X-TITLE=Salle d'animati
 on:geo:45.455104,-73.468254
END:VEVENT
BEGIN:VEVENT
UID:6203@biblio.brossard.ca
DTSTART;TZID=America/New_York:20260519T140000
DTEND;TZID=America/New_York:20260519T154500
DTSTAMP:20260306T195532Z
URL:https://biblio.brossard.ca/activites/film-les-schtroumpfs-19-mai-2026/
SUMMARY:Film : Les Schtroumpfs (19 mai 2026)
DESCRIPTION:Entrée libre. Les enfants âgés de moins de 8 ans doivent être accompagnés d’un adulte.\n\nVenez assister à la projection du film Les Schtroumpfs dès 14h dans la salle d’animation de l’Espace jeunes. Un film qui saura charmer petits et grands.\n\nDurée du film : 92 minutes.\n\n\n\nPour plus de renseignements : \n\nhttps://biblio.brossard.ca/activites/film-les-schtroumpfs-19-mai-2026/
ATTACH;FMTTYPE=image/jpeg:https://biblio.brossard.ca/wp-content/uploads/2026/02/film_schtroumpfs.jpg
CATEGORIES:Activités à venir,Activités enfants,Journées pédagogiques
LOCATION:Bibliothèque de Brossard Georgette-Lepage -  Salle d'animation
GEO:45.455104;-73.468254
X-APPLE-STRUCTURED-LOCATION;VALUE=URI;X-ADDRESS=7855\, av San Francisco\, B
 rossard\, Qc\, J4X 2A4\, Canada;X-APPLE-RADIUS=100;X-TITLE=Salle d'animati
 on:geo:45.455104,-73.468254
END:VEVENT
BEGIN:VTIMEZONE
TZID:America/New_York
X-LIC-LOCATION:America/New_York
BEGIN:DAYLIGHT
DTSTART:20260308T030000
TZOFFSETFROM:-0500
TZOFFSETTO:-0400
TZNAME:EDT
END:DAYLIGHT
END:VTIMEZONE
END:VCALENDAR