BEGIN:VCALENDAR
VERSION:2.0
PRODID:-//wp-events-plugin.com//7.2.3.1//EN
TZID:America/New_York
X-WR-TIMEZONE:America/New_York
BEGIN:VEVENT
UID:6148@biblio.brossard.ca
DTSTART;TZID=America/New_York:20260425T130000
DTEND;TZID=America/New_York:20260425T150000
DTSTAMP:20260227T214326Z
URL:https://biblio.brossard.ca/activites/cine-popcorn-la-mort-dune-licorne-25-avril-2026/
SUMMARY:Ciné-popcorn : La mort d’une licorne (25 avril 2026)
DESCRIPTION:Une licorne. Une corne magique. Une famille en danger. Riley et son père voulaient juste se rapprocher… Maintenant\, ils doivent survivre. Magie\, vengeance\, chaos. Tu cliques où tu rates. \n\n* Les participant.e.s doivent avoir entre 12 et 17 ans au jour de l’activité \; toute personne hors de ce groupe d’âge sera désinscrite. \n\nPour plus de renseignements : \n\nhttps://biblio.brossard.ca/activites/cine-popcorn-la-mort-dune-licorne-25-avril-2026/
ATTACH;FMTTYPE=image/jpeg:https://biblio.brossard.ca/wp-content/uploads/2026/02/mort_licorne.jpg
CATEGORIES:Activités à venir,Activités adolescents,Activités ados du samedi
LOCATION:Bibliothèque de Brossard Georgette-Lepage -  Espace SODA
GEO:45.455118;-73.468344
X-APPLE-STRUCTURED-LOCATION;VALUE=URI;X-ADDRESS=7855\, av San Francisco\, B
 rossard\, Qc\, J4X 2A4\, Canada;X-APPLE-RADIUS=100;X-TITLE=Espace SODA:geo
 :45.455118,-73.468344
END:VEVENT
BEGIN:VEVENT
UID:6221@biblio.brossard.ca
DTSTART;TZID=America/New_York:20260429T163000
DTEND;TZID=America/New_York:20260506T183000
DTSTAMP:20260305T152526Z
URL:https://biblio.brossard.ca/activites/societe-secrete-du-fab-fabrique-un-jeu-de-tic-tac-toe-29-avril-et-6-mai-2026/
SUMMARY:Société secrète du Fab : fabrique un jeu de tic-tac-toe (29 avril et 6 mai 2026)
DESCRIPTION:Plonge dans l'univers de la création numérique avec la série d'ateliers "La société secrète du Lab"\, conçue spécialement pour les ados de 12 à 17 ans. Chaque séance t'invite à réaliser un projet complet\, de l'idéation à la fabrication\, en explorant la conception sur ordinateur et l'utilisation des machines du Fab Lab.\n\nLors de cet atelier\, viens découvrir le dessin vectoriel (Illustrator) et la découpe laser afin de fabriquer un jeu de tic-tac-toe personnalisé.\n\nNiveau : Débutant\n\n\nPour plus de renseignements : \n\nhttps://biblio.brossard.ca/activites/societe-secrete-du-fab-fabrique-un-jeu-de-tic-tac-toe-29-avril-et-6-mai-2026/
ATTACH;FMTTYPE=image/jpeg:https://biblio.brossard.ca/wp-content/uploads/2026/03/tic-tac-toe_fab_lab.png
CATEGORIES:Activités à venir,Activités adolescents,Fab Lab,Société secrète du Fab (ado)
LOCATION:Bibliothèque de Brossard Georgette-Lepage -  Fab Lab
GEO:45.455128;-73.468254
X-APPLE-STRUCTURED-LOCATION;VALUE=URI;X-ADDRESS=7855\, av San Francisco\, B
 rossard\, Qc\, J4X 2A4\, Canada;X-APPLE-RADIUS=100;X-TITLE=Fab Lab:geo:45.
 455128,-73.468254
END:VEVENT
BEGIN:VEVENT
UID:6146@biblio.brossard.ca
DTSTART;TZID=America/New_York:20260502T130000
DTEND;TZID=America/New_York:20260502T150000
DTSTAMP:20260227T212749Z
URL:https://biblio.brossard.ca/activites/realite-virtuelle-2-mai-2026/
SUMMARY:Réalité virtuelle (2 mai 2026)
DESCRIPTION:Viens essayer un casque de réalité virtuelle pendant 10 minutes et plonge dans un univers immersif grâce à une foule de jeux et d’expériences à découvrir. Avec Éric Vallières\, bibliothécaire.\n\n*Entrée libre toutes les 15 minutes — premier arrivé\, premier servi !\n\n**Les participant.e.s doivent avoir entre 12 et 17 ans au jour de l'activité\; toute personne hors de ce groupe d'âge sera refusée.\n\nVoir la liste complète des expériences.\n\nPour plus de renseignements : \n\nhttps://biblio.brossard.ca/activites/realite-virtuelle-2-mai-2026/
ATTACH;FMTTYPE=image/jpeg:https://biblio.brossard.ca/wp-content/uploads/2025/07/realite_virtuelle_ado.jpg
CATEGORIES:Activités à venir,Activités adolescents,Activités ados du samedi
LOCATION:Bibliothèque de Brossard Georgette-Lepage -  Espace SODA
GEO:45.455118;-73.468344
X-APPLE-STRUCTURED-LOCATION;VALUE=URI;X-ADDRESS=7855\, av San Francisco\, B
 rossard\, Qc\, J4X 2A4\, Canada;X-APPLE-RADIUS=100;X-TITLE=Espace SODA:geo
 :45.455118,-73.468344
END:VEVENT
BEGIN:VEVENT
UID:6149@biblio.brossard.ca
DTSTART;TZID=America/New_York:20260516T130000
DTEND;TZID=America/New_York:20260516T143000
DTSTAMP:20260227T214722Z
URL:https://biblio.brossard.ca/activites/planche-avec-lia-sur-ta-bd-16-mai-2026/
SUMMARY:Planche avec l’IA sur ta BD (16 mai 2026)
DESCRIPTION:Plonge dans la peau d’un créateur de BD et explore les coulisses des technologies d’IA ! Découvre comment l’intelligence artificielle peut transformer la création de textes et d’images\, et son impact sur les gestes artistiques. Atelier offert par l’ABPQ en collaboration avec IVADO.\n\n* Les participant.e.s doivent avoir entre 12 et 17 ans au jour de l’activité\; toute personne hors de ce groupe d’âge sera désinscrite. \n\nPour plus de renseignements : \n\nhttps://biblio.brossard.ca/activites/planche-avec-lia-sur-ta-bd-16-mai-2026/
ATTACH;FMTTYPE=image/jpeg:https://biblio.brossard.ca/wp-content/uploads/2026/02/atelier_ia_bd.jpg
CATEGORIES:Activités à venir,Activités adolescents,Activités ados du samedi
LOCATION:Bibliothèque de Brossard Georgette-Lepage -  Espace SODA
GEO:45.455118;-73.468344
X-APPLE-STRUCTURED-LOCATION;VALUE=URI;X-ADDRESS=7855\, av San Francisco\, B
 rossard\, Qc\, J4X 2A4\, Canada;X-APPLE-RADIUS=100;X-TITLE=Espace SODA:geo
 :45.455118,-73.468344
END:VEVENT
BEGIN:VEVENT
UID:6220@biblio.brossard.ca
DTSTART;TZID=America/New_York:20260527T163000
DTEND;TZID=America/New_York:20260603T183000
DTSTAMP:20260305T152713Z
URL:https://biblio.brossard.ca/activites/societe-secrete-du-fab-personnaliser-une-lampe-de-chevet-27-mai-et-3-juin-2026/
SUMMARY:Société secrète du Fab : personnaliser une lampe de chevet (27 mai et 3 juin 2026)
DESCRIPTION:Plonge dans l'univers de la création numérique avec la série d'ateliers "La société secrète du Lab"\, conçue spécialement pour les ados de 12 à 17 ans. Chaque séance t'invite à réaliser un projet complet\, de l'idéation à la fabrication\, en explorant la conception sur ordinateur et l'utilisation des machines du Fab Lab.\n\nLors de cet atelier\, viens découvrir le dessin vectoriel (Illustrator) et la découpe laser afin de personnaliser une lampe de chevet en acrylique.\n\nNiveau : Débutant \n\n\nPour plus de renseignements : \n\nhttps://biblio.brossard.ca/activites/societe-secrete-du-fab-personnaliser-une-lampe-de-chevet-27-mai-et-3-juin-2026/
ATTACH;FMTTYPE=image/jpeg:https://biblio.brossard.ca/wp-content/uploads/2026/03/lampe_chevet_fab_lab.jpg
CATEGORIES:Activités à venir,Activités adolescents,Fab Lab,Société secrète du Fab (ado)
LOCATION:Bibliothèque de Brossard Georgette-Lepage -  Fab Lab
GEO:45.455128;-73.468254
X-APPLE-STRUCTURED-LOCATION;VALUE=URI;X-ADDRESS=7855\, av San Francisco\, B
 rossard\, Qc\, J4X 2A4\, Canada;X-APPLE-RADIUS=100;X-TITLE=Fab Lab:geo:45.
 455128,-73.468254
END:VEVENT
BEGIN:VEVENT
UID:6147@biblio.brossard.ca
DTSTART;TZID=America/New_York:20260606T130000
DTEND;TZID=America/New_York:20260606T150000
DTSTAMP:20260227T212759Z
URL:https://biblio.brossard.ca/activites/realite-virtuelle-6-juin-2026/
SUMMARY:Réalité virtuelle (6 juin 2026)
DESCRIPTION:Viens essayer un casque de réalité virtuelle pendant 10 minutes et plonge dans un univers immersif grâce à une foule de jeux et d'expériences à découvrir. Avec Éric Vallières\, bibliothécaire.\n\n*Entrée libre toutes les 15 minutes — premier arrivé\, premier servi !\n\n**Les participant.e.s doivent avoir entre 12 et 17 ans au jour de l'activité\; toute personne hors de ce groupe d'âge sera refusée.\n\nVoir la liste complète des expériences.\n\nPour plus de renseignements : \n\nhttps://biblio.brossard.ca/activites/realite-virtuelle-6-juin-2026/
ATTACH;FMTTYPE=image/jpeg:https://biblio.brossard.ca/wp-content/uploads/2025/07/realite_virtuelle_ado.jpg
CATEGORIES:Activités à venir,Activités adolescents,Activités ados du samedi
LOCATION:Bibliothèque de Brossard Georgette-Lepage -  Espace SODA
GEO:45.455118;-73.468344
X-APPLE-STRUCTURED-LOCATION;VALUE=URI;X-ADDRESS=7855\, av San Francisco\, B
 rossard\, Qc\, J4X 2A4\, Canada;X-APPLE-RADIUS=100;X-TITLE=Espace SODA:geo
 :45.455118,-73.468344
END:VEVENT
BEGIN:VEVENT
UID:6219@biblio.brossard.ca
DTSTART;TZID=America/New_York:20260617T163000
DTEND;TZID=America/New_York:20260617T183000
DTSTAMP:20260305T153426Z
URL:https://biblio.brossard.ca/activites/societe-secrete-du-fab-creer-des-ecussons-brodes-17-juin-2026/
SUMMARY:Société secrète du Fab : créer des écussons brodés (17 juin 2026)
DESCRIPTION:Plonge dans l'univers de la création numérique avec la série d'ateliers "La société secrète du Lab"\, conçue spécialement pour les ados de 12 à 17 ans. Chaque séance t'invite à réaliser un projet complet\, de l'idéation à la fabrication\, en explorant la conception sur ordinateur et l'utilisation des machines du Fab Lab.\n\nCet atelier propose une initiation à la broderie numérique pour la création d’écussons. Aucun projet n’est réalisé lors de cette séance de découverte.\n\nNiveau : Débutant \n\n\nPour plus de renseignements : \n\nhttps://biblio.brossard.ca/activites/societe-secrete-du-fab-creer-des-ecussons-brodes-17-juin-2026/
ATTACH;FMTTYPE=image/jpeg:https://biblio.brossard.ca/wp-content/uploads/2026/03/ecussons.jpg
CATEGORIES:Activités à venir,Activités adolescents,Fab Lab,Société secrète du Fab (ado)
LOCATION:Bibliothèque de Brossard Georgette-Lepage -  Fab Lab
GEO:45.455128;-73.468254
X-APPLE-STRUCTURED-LOCATION;VALUE=URI;X-ADDRESS=7855\, av San Francisco\, B
 rossard\, Qc\, J4X 2A4\, Canada;X-APPLE-RADIUS=100;X-TITLE=Fab Lab:geo:45.
 455128,-73.468254
END:VEVENT
BEGIN:VTIMEZONE
TZID:America/New_York
X-LIC-LOCATION:America/New_York
BEGIN:DAYLIGHT
DTSTART:20260308T030000
TZOFFSETFROM:-0500
TZOFFSETTO:-0400
TZNAME:EDT
END:DAYLIGHT
END:VTIMEZONE
END:VCALENDAR