BEGIN:VCALENDAR
VERSION:2.0
PRODID:-//wp-events-plugin.com//7.2.3.1//EN
TZID:America/New_York
X-WR-TIMEZONE:America/New_York
BEGIN:VEVENT
UID:5848@biblio.brossard.ca
DTSTART;TZID=America/New_York;VALUE=DATE:20260401
DTEND;TZID=America/New_York;VALUE=DATE:20260501
DTSTAMP:20250909T151015Z
URL:https://biblio.brossard.ca/activites/3e-cycle-trousse-la-fanfiction-avril-2/
SUMMARY:3e cycle - Trousse La fanfiction (avril)
DESCRIPTION:En découvrant un genre littéraire populaire\, vos élèves développeront le scénario d’un récit que vous serez libre d’exploiter ensuite en classe pour réaliser une situation d’écriture originale.\n\nObjectifs :\n\nDécouverte d’un genre littéraire populaire (fanfiction)\nDéveloppement d’un intérêt pour l’écriture\nIdéation et planification d’un récit de fanfiction\n\n\nPour plus de renseignements : \n\nhttps://biblio.brossard.ca/activites/3e-cycle-trousse-la-fanfiction-avril-2/
CATEGORIES:3e cycle - Trousse La fanfiction,Trousses
LOCATION: Bibliothèque de Brossard Georgette-Lepage
GEO:45.455118;-73.468344
X-APPLE-STRUCTURED-LOCATION;VALUE=URI;X-ADDRESS=7855\, av San Francisco\, B
 rossard\, Qc\, J4X 2A4\, Canada;X-APPLE-RADIUS=100;X-TITLE=Bibliothèque d
 e Brossard Georgette-Lepage:geo:45.455118,-73.468344
END:VEVENT
BEGIN:VEVENT
UID:5849@biblio.brossard.ca
DTSTART;TZID=America/New_York;VALUE=DATE:20260501
DTEND;TZID=America/New_York;VALUE=DATE:20260601
DTSTAMP:20250909T153717Z
URL:https://biblio.brossard.ca/activites/3e-cycle-trousse-la-fanfiction-mai-2/
SUMMARY:3e cycle - Trousse La fanfiction (mai)
DESCRIPTION:En découvrant un genre littéraire populaire\, vos élèves développeront le scénario d’un récit que vous serez libre d’exploiter ensuite en classe pour réaliser une situation d’écriture originale.\n\nObjectifs :\n\nDécouverte d’un genre littéraire populaire (fanfiction)\nDéveloppement d’un intérêt pour l’écriture\nIdéation et planification d’un récit de fanfiction\n\n\nPour plus de renseignements : \n\nhttps://biblio.brossard.ca/activites/3e-cycle-trousse-la-fanfiction-mai-2/
CATEGORIES:3e cycle - Trousse La fanfiction,Trousses
LOCATION: Bibliothèque de Brossard Georgette-Lepage
GEO:45.455118;-73.468344
X-APPLE-STRUCTURED-LOCATION;VALUE=URI;X-ADDRESS=7855\, av San Francisco\, B
 rossard\, Qc\, J4X 2A4\, Canada;X-APPLE-RADIUS=100;X-TITLE=Bibliothèque d
 e Brossard Georgette-Lepage:geo:45.455118,-73.468344
END:VEVENT
BEGIN:VTIMEZONE
TZID:America/New_York
X-LIC-LOCATION:America/New_York
BEGIN:DAYLIGHT
DTSTART:20260308T030000
TZOFFSETFROM:-0500
TZOFFSETTO:-0400
TZNAME:EDT
END:DAYLIGHT
END:VTIMEZONE
END:VCALENDAR