BEGIN:VCALENDAR
VERSION:2.0
PRODID:-//wp-events-plugin.com//7.2.3.1//EN
TZID:America/New_York
X-WR-TIMEZONE:America/New_York
BEGIN:VEVENT
UID:5841@biblio.brossard.ca
DTSTART;TZID=America/New_York;VALUE=DATE:20260401
DTEND;TZID=America/New_York;VALUE=DATE:20260501
DTSTAMP:20250909T153945Z
URL:https://biblio.brossard.ca/activites/2e-cycle-trousse-un-scenario-de-film-avril-2/
SUMMARY:2e cycle - Trousse Un scénario de film (avril)
DESCRIPTION:En utilisant Le super livre à inventer des histoires de Juliette Saumande et Mélanie Grandgirard aux éditions Fleurus\, vos élèves développeront en équipe des scénarios de films que vous serez libre d’exploiter ensuite en classe.\n\nObjectifs :\n\nExpérimentation de la construction collaborative d’un récit\nDéveloppement de l’imaginaire par la contrainte\nEnrichissement des lexiques de personnages\, d’objets\, d’actions et de lieux du récit\n\n\nPour plus de renseignements : \n\nhttps://biblio.brossard.ca/activites/2e-cycle-trousse-un-scenario-de-film-avril-2/
CATEGORIES:2e cycle - Trousse Un scénario de film,Trousses
LOCATION: Bibliothèque de Brossard Georgette-Lepage
GEO:45.455118;-73.468344
X-APPLE-STRUCTURED-LOCATION;VALUE=URI;X-ADDRESS=7855\, av San Francisco\, B
 rossard\, Qc\, J4X 2A4\, Canada;X-APPLE-RADIUS=100;X-TITLE=Bibliothèque d
 e Brossard Georgette-Lepage:geo:45.455118,-73.468344
END:VEVENT
BEGIN:VEVENT
UID:5842@biblio.brossard.ca
DTSTART;TZID=America/New_York;VALUE=DATE:20260501
DTEND;TZID=America/New_York;VALUE=DATE:20260601
DTSTAMP:20250909T153642Z
URL:https://biblio.brossard.ca/activites/2e-cycle-trousse-un-scenario-de-film-mai-2/
SUMMARY:2e cycle - Trousse Un scénario de film (mai)
DESCRIPTION:En utilisant Le super livre à inventer des histoires de Juliette Saumande et Mélanie Grandgirard aux éditions Fleurus\, vos élèves développeront en équipe des scénarios de films que vous serez libre d’exploiter ensuite en classe.\n\nObjectifs :\n\nExpérimentation de la construction collaborative d’un récit\nDéveloppement de l’imaginaire par la contrainte\nEnrichissement des lexiques de personnages\, d’objets\, d’actions et de lieux du récit\n\n\nPour plus de renseignements : \n\nhttps://biblio.brossard.ca/activites/2e-cycle-trousse-un-scenario-de-film-mai-2/
CATEGORIES:2e cycle - Trousse Un scénario de film,Trousses
LOCATION: Bibliothèque de Brossard Georgette-Lepage
GEO:45.455118;-73.468344
X-APPLE-STRUCTURED-LOCATION;VALUE=URI;X-ADDRESS=7855\, av San Francisco\, B
 rossard\, Qc\, J4X 2A4\, Canada;X-APPLE-RADIUS=100;X-TITLE=Bibliothèque d
 e Brossard Georgette-Lepage:geo:45.455118,-73.468344
END:VEVENT
BEGIN:VTIMEZONE
TZID:America/New_York
X-LIC-LOCATION:America/New_York
BEGIN:DAYLIGHT
DTSTART:20260308T030000
TZOFFSETFROM:-0500
TZOFFSETTO:-0400
TZNAME:EDT
END:DAYLIGHT
END:VTIMEZONE
END:VCALENDAR