BEGIN:VCALENDAR
VERSION:2.0
PRODID:-//wp-events-plugin.com//7.2.3.1//EN
TZID:America/New_York
X-WR-TIMEZONE:America/New_York
BEGIN:VEVENT
UID:5857@biblio.brossard.ca
DTSTART;TZID=America/New_York;VALUE=DATE:20260401
DTEND;TZID=America/New_York;VALUE=DATE:20260501
DTSTAMP:20250909T153752Z
URL:https://biblio.brossard.ca/activites/1er-cycle-trousse-le-labyrinthe-des-histoires-avril-2/
SUMMARY:1er cycle - Trousse Le labyrinthe des histoires (avril)
DESCRIPTION:En utilisant le livre Le labyrinthe des histoires de Madalena Matoso aux éditions Nathan\, vos élèves inventeront des histoires en faisant le choix\, étape par étape\, des différents éléments de leur récit.\n\nObjectifs :\n\nExpérimentation de la construction guidée d’un récit\nDécouverte de la structure narrative et des éléments d’un récit\nOpportunité de raconter une histoire que l’on a inventée\n\n\nPour plus de renseignements : \n\nhttps://biblio.brossard.ca/activites/1er-cycle-trousse-le-labyrinthe-des-histoires-avril-2/
CATEGORIES:1er cycle - Trousse Le labyrinthe des histoires,Trousses
LOCATION: Bibliothèque de Brossard Georgette-Lepage
GEO:45.455118;-73.468344
X-APPLE-STRUCTURED-LOCATION;VALUE=URI;X-ADDRESS=7855\, av San Francisco\, B
 rossard\, Qc\, J4X 2A4\, Canada;X-APPLE-RADIUS=100;X-TITLE=Bibliothèque d
 e Brossard Georgette-Lepage:geo:45.455118,-73.468344
END:VEVENT
BEGIN:VEVENT
UID:5858@biblio.brossard.ca
DTSTART;TZID=America/New_York;VALUE=DATE:20260501
DTEND;TZID=America/New_York;VALUE=DATE:20260601
DTSTAMP:20250909T153340Z
URL:https://biblio.brossard.ca/activites/1er-cycle-trousse-le-labyrinthe-des-histoires-mai-2/
SUMMARY:1er cycle - Trousse Le labyrinthe des histoires (mai)
DESCRIPTION:En utilisant le livre Le labyrinthe des histoires de Madalena Matoso aux éditions Nathan\, vos élèves inventeront des histoires en faisant le choix\, étape par étape\, des différents éléments de leur récit.\n\nObjectifs :\n\nExpérimentation de la construction guidée d’un récit\nDécouverte de la structure narrative et des éléments d’un récit\nOpportunité de raconter une histoire que l’on a inventée\n\n\nPour plus de renseignements : \n\nhttps://biblio.brossard.ca/activites/1er-cycle-trousse-le-labyrinthe-des-histoires-mai-2/
CATEGORIES:1er cycle - Trousse Le labyrinthe des histoires,Trousses
LOCATION: Bibliothèque de Brossard Georgette-Lepage
GEO:45.455118;-73.468344
X-APPLE-STRUCTURED-LOCATION;VALUE=URI;X-ADDRESS=7855\, av San Francisco\, B
 rossard\, Qc\, J4X 2A4\, Canada;X-APPLE-RADIUS=100;X-TITLE=Bibliothèque d
 e Brossard Georgette-Lepage:geo:45.455118,-73.468344
END:VEVENT
BEGIN:VTIMEZONE
TZID:America/New_York
X-LIC-LOCATION:America/New_York
BEGIN:DAYLIGHT
DTSTART:20260308T030000
TZOFFSETFROM:-0500
TZOFFSETTO:-0400
TZNAME:EDT
END:DAYLIGHT
END:VTIMEZONE
END:VCALENDAR